BEGIN:VCALENDAR
VERSION:2.0
PRODID:-//AusschreibungsRadar//Timeline//DE
CALSCALE:GREGORIAN
METHOD:PUBLISH
X-WR-CALNAME:Projekt Politische Kommunikation der drei NRW-Aufgabenträger für den
X-WR-TIMEZONE:Europe/Berlin
BEGIN:VEVENT
UID:5d05cfe65fdf0a36@ausschreibungsradar.com
DTSTAMP:20260425T143759Z
DTSTART;VALUE=DATE:20241213
DTEND;VALUE=DATE:20241213
SUMMARY:Angebotsfrist — Politische Kommunikation der drei NRW-Aufgabenträger für den
DESCRIPTION:Phase: Ausschreibung | Beschreibung: Angebote werden eingeholt | Link: https://ausschreibungsradar.com/ausschreibung/6fadf5bb-2290-4762-91ea-10d52a7c210e/ | Geschätzter Wert: 500000 €
URL:https://ausschreibungsradar.com/ausschreibung/6fadf5bb-2290-4762-91ea-10d52a7c210e/
END:VEVENT
BEGIN:VEVENT
UID:59dfaf0d4f1814b9@ausschreibungsradar.com
DTSTAMP:20260425T143759Z
DTSTART;VALUE=DATE:20241219
DTEND;VALUE=DATE:20241219
SUMMARY:Vergabeergebnis — Politische Kommunikation der drei NRW-Aufgabenträger für den
DESCRIPTION:Phase: Vergabeergebnis | Beschreibung: Auftrag wurde zugeschlagen | Link: https://ausschreibungsradar.com/ausschreibung/87983ffe-d7ae-4290-b639-2b26b5da8dcd/ | Geschätzter Wert: 500000 €
URL:https://ausschreibungsradar.com/ausschreibung/87983ffe-d7ae-4290-b639-2b26b5da8dcd/
END:VEVENT
END:VCALENDAR
