BEGIN:VCALENDAR
VERSION:2.0
PRODID:-//AusschreibungsRadar//Timeline//DE
CALSCALE:GREGORIAN
METHOD:PUBLISH
X-WR-CALNAME:Projekt Planungsleistungen für Winterfeldtstraße
X-WR-TIMEZONE:Europe/Berlin
BEGIN:VEVENT
UID:1f7126999cb25098@ausschreibungsradar.com
DTSTAMP:20260426T025430Z
DTSTART;VALUE=DATE:20240703
DTEND;VALUE=DATE:20240703
SUMMARY:Ausschreibung — Planungsleistungen für Winterfeldtstraße
DESCRIPTION:Phase: Ausschreibung | Beschreibung: Angebote werden eingeholt | Link: https://ausschreibungsradar.com/ausschreibung/084adf10-f056-48be-b1bd-e534b046e37d/
URL:https://ausschreibungsradar.com/ausschreibung/084adf10-f056-48be-b1bd-e534b046e37d/
END:VEVENT
BEGIN:VEVENT
UID:ba2cb72da4ad5cbf@ausschreibungsradar.com
DTSTAMP:20260426T025430Z
DTSTART;VALUE=DATE:20250116
DTEND;VALUE=DATE:20250116
SUMMARY:Vergabeergebnis — Planungsleistungen für Winterfeldtstraße
DESCRIPTION:Phase: Vergabeergebnis | Beschreibung: Auftrag wurde zugeschlagen | Link: https://ausschreibungsradar.com/ausschreibung/6fd59d8b-5ca5-4042-ba64-6d0a76a448c2/
URL:https://ausschreibungsradar.com/ausschreibung/6fd59d8b-5ca5-4042-ba64-6d0a76a448c2/
END:VEVENT
END:VCALENDAR
