BEGIN:VCALENDAR
VERSION:2.0
PRODID:-//AusschreibungsRadar//Timeline//DE
CALSCALE:GREGORIAN
METHOD:PUBLISH
X-WR-CALNAME:Projekt Los 300-04 Trockenbau Bürgerpark
X-WR-TIMEZONE:Europe/Berlin
BEGIN:VEVENT
UID:15b0f0a474df8e83@ausschreibungsradar.com
DTSTAMP:20260425T161946Z
DTSTART;VALUE=DATE:20230918
DTEND;VALUE=DATE:20230918
SUMMARY:Angebotsfrist — Los 300-04 Trockenbau Bürgerpark
DESCRIPTION:Phase: Ausschreibung | Beschreibung: Angebote werden eingeholt | Link: https://ausschreibungsradar.com/ausschreibung/6fe7b88e-6719-47fd-af19-3808dfaffd5a/
URL:https://ausschreibungsradar.com/ausschreibung/6fe7b88e-6719-47fd-af19-3808dfaffd5a/
END:VEVENT
BEGIN:VEVENT
UID:7d2b1c4c2df90f0e@ausschreibungsradar.com
DTSTAMP:20260425T161946Z
DTSTART;VALUE=DATE:20230911
DTEND;VALUE=DATE:20230911
SUMMARY:Änderung — Los 300-04 Trockenbau Bürgerpark
DESCRIPTION:Phase: Änderung | Beschreibung: Ausschreibung wurde angepasst | Link: https://ausschreibungsradar.com/ausschreibung/6fe7b88e-6719-47fd-af19-3808dfaffd5a/
URL:https://ausschreibungsradar.com/ausschreibung/6fe7b88e-6719-47fd-af19-3808dfaffd5a/
END:VEVENT
END:VCALENDAR
