BEGIN:VCALENDAR
VERSION:2.0
PRODID:-//AusschreibungsRadar//Timeline//DE
CALSCALE:GREGORIAN
METHOD:PUBLISH
X-WR-CALNAME:Projekt MKK_WVSS: Lüftungsarbeiten
X-WR-TIMEZONE:Europe/Berlin
BEGIN:VEVENT
UID:5e75622bb950b706@ausschreibungsradar.com
DTSTAMP:20260424T080845Z
DTSTART;VALUE=DATE:20260223
DTEND;VALUE=DATE:20260223
SUMMARY:Angebotsfrist — MKK_WVSS: Lüftungsarbeiten
DESCRIPTION:Phase: Ausschreibung | Beschreibung: Angebote werden eingeholt | Link: https://ausschreibungsradar.com/ausschreibung/30aa46e8-c29e-4784-a07d-c686f653135f/
URL:https://ausschreibungsradar.com/ausschreibung/30aa46e8-c29e-4784-a07d-c686f653135f/
END:VEVENT
BEGIN:VEVENT
UID:9c751bfb59fb9971@ausschreibungsradar.com
DTSTAMP:20260424T080845Z
DTSTART;VALUE=DATE:20260114
DTEND;VALUE=DATE:20260114
SUMMARY:Ausschreibung — MKK_WVSS: Lüftungsarbeiten
DESCRIPTION:Phase: Ausschreibung | Beschreibung: Offizielle Ausschreibung mit Bieterfrist. | Link: https://ausschreibungsradar.com/ausschreibung/80b79e77-9c09-4608-b268-d6592e850a9b/
URL:https://ausschreibungsradar.com/ausschreibung/80b79e77-9c09-4608-b268-d6592e850a9b/
END:VEVENT
BEGIN:VEVENT
UID:1e41188ce5149f35@ausschreibungsradar.com
DTSTAMP:20260424T080845Z
DTSTART;VALUE=DATE:20260325
DTEND;VALUE=DATE:20260325
SUMMARY:Vergabeergebnis — MKK_WVSS: Lüftungsarbeiten
DESCRIPTION:Phase: Vergabeergebnis | Beschreibung: Auftrag wurde zugeschlagen | Link: https://ausschreibungsradar.com/ausschreibung/70eaea45-052f-4a4d-bb4c-987dcd260564/
URL:https://ausschreibungsradar.com/ausschreibung/70eaea45-052f-4a4d-bb4c-987dcd260564/
END:VEVENT
END:VCALENDAR
