BEGIN:VCALENDAR
VERSION:2.0
PRODID:-//AusschreibungsRadar//Timeline//DE
CALSCALE:GREGORIAN
METHOD:PUBLISH
X-WR-CALNAME:Projekt 022-01 Klempnerarbeiten
X-WR-TIMEZONE:Europe/Berlin
BEGIN:VEVENT
UID:05f62c2463be587c@ausschreibungsradar.com
DTSTAMP:20260425T190832Z
DTSTART;VALUE=DATE:20260219
DTEND;VALUE=DATE:20260219
SUMMARY:Angebotsfrist — 022-01 Klempnerarbeiten
DESCRIPTION:Phase: Ausschreibung | Beschreibung: Angebote werden eingeholt | Link: https://ausschreibungsradar.com/ausschreibung/7133a25e-367c-4e15-938e-c67648b63346/
URL:https://ausschreibungsradar.com/ausschreibung/7133a25e-367c-4e15-938e-c67648b63346/
END:VEVENT
END:VCALENDAR
