BEGIN:VCALENDAR
VERSION:2.0
PRODID:-//AusschreibungsRadar//Timeline//DE
CALSCALE:GREGORIAN
METHOD:PUBLISH
X-WR-CALNAME:Projekt Show - Film, Sound, SFX, Licht Klimahaus Wetterextreme
X-WR-TIMEZONE:Europe/Berlin
BEGIN:VEVENT
UID:a9de6a616272d208@ausschreibungsradar.com
DTSTAMP:20260424T174234Z
DTSTART;VALUE=DATE:20230315
DTEND;VALUE=DATE:20230315
SUMMARY:Ausschreibung — Show - Film\, Sound\, SFX\, Licht Klimahaus Wetterextreme
DESCRIPTION:Phase: Ausschreibung | Beschreibung: Angebote werden eingeholt | Link: https://ausschreibungsradar.com/ausschreibung/71925131-10c2-4290-93f9-a15d1a6aef92/
URL:https://ausschreibungsradar.com/ausschreibung/71925131-10c2-4290-93f9-a15d1a6aef92/
END:VEVENT
BEGIN:VEVENT
UID:79494720ddfca8c7@ausschreibungsradar.com
DTSTAMP:20260424T174234Z
DTSTART;VALUE=DATE:20230315
DTEND;VALUE=DATE:20230315
SUMMARY:Ausschreibung — Show - Film\, Sound\, SFX\, Licht Klimahaus Wetterextreme
DESCRIPTION:Phase: Ausschreibung | Beschreibung: Offizielle Ausschreibung mit Bieterfrist. | Link: https://ausschreibungsradar.com/ausschreibung/606dc875-556a-4492-8af5-2d22f8c7022b/
URL:https://ausschreibungsradar.com/ausschreibung/606dc875-556a-4492-8af5-2d22f8c7022b/
END:VEVENT
BEGIN:VEVENT
UID:325250f12ff52b54@ausschreibungsradar.com
DTSTAMP:20260424T174234Z
DTSTART;VALUE=DATE:20230315
DTEND;VALUE=DATE:20230315
SUMMARY:Ausschreibung — Show - Film\, Sound\, SFX\, Licht Klimahaus Wetterextreme
DESCRIPTION:Phase: Ausschreibung | Beschreibung: Offizielle Ausschreibung mit Bieterfrist. | Link: https://ausschreibungsradar.com/ausschreibung/76d98947-b01d-4cfb-81b6-cd121575ee6d/
URL:https://ausschreibungsradar.com/ausschreibung/76d98947-b01d-4cfb-81b6-cd121575ee6d/
END:VEVENT
BEGIN:VEVENT
UID:de7d105aa18dc602@ausschreibungsradar.com
DTSTAMP:20260424T174234Z
DTSTART;VALUE=DATE:20230315
DTEND;VALUE=DATE:20230315
SUMMARY:Ausschreibung — Show - Film\, Sound\, SFX\, Licht Klimahaus Wetterextreme
DESCRIPTION:Phase: Ausschreibung | Beschreibung: Offizielle Ausschreibung mit Bieterfrist. | Link: https://ausschreibungsradar.com/ausschreibung/1efd672b-8be8-4e33-afc2-332bf60758d9/
URL:https://ausschreibungsradar.com/ausschreibung/1efd672b-8be8-4e33-afc2-332bf60758d9/
END:VEVENT
BEGIN:VEVENT
UID:2751ea45fcbca3f4@ausschreibungsradar.com
DTSTAMP:20260424T174234Z
DTSTART;VALUE=DATE:20230315
DTEND;VALUE=DATE:20230315
SUMMARY:Ausschreibung — Show - Film\, Sound\, SFX\, Licht Klimahaus Wetterextreme
DESCRIPTION:Phase: Ausschreibung | Beschreibung: Offizielle Ausschreibung mit Bieterfrist. | Link: https://ausschreibungsradar.com/ausschreibung/c4450313-f44d-4a2c-b34c-119d05417b48/
URL:https://ausschreibungsradar.com/ausschreibung/c4450313-f44d-4a2c-b34c-119d05417b48/
END:VEVENT
BEGIN:VEVENT
UID:f7d31ea4ffe6bd67@ausschreibungsradar.com
DTSTAMP:20260424T174234Z
DTSTART;VALUE=DATE:20230315
DTEND;VALUE=DATE:20230315
SUMMARY:Ausschreibung — Show - Film\, Sound\, SFX\, Licht Klimahaus Wetterextreme
DESCRIPTION:Phase: Ausschreibung | Beschreibung: Offizielle Ausschreibung mit Bieterfrist. | Link: https://ausschreibungsradar.com/ausschreibung/464ea720-74fb-4b5f-b6e7-83a031272449/
URL:https://ausschreibungsradar.com/ausschreibung/464ea720-74fb-4b5f-b6e7-83a031272449/
END:VEVENT
END:VCALENDAR
