BEGIN:VCALENDAR
VERSION:2.0
PRODID:-//AusschreibungsRadar//Timeline//DE
CALSCALE:GREGORIAN
METHOD:PUBLISH
X-WR-CALNAME:Projekt Erbringung von Postdienstleistung vom 01.01.2024 bis 31.12.2
X-WR-TIMEZONE:Europe/Berlin
BEGIN:VEVENT
UID:a7b5da37e74fef6e@ausschreibungsradar.com
DTSTAMP:20260425T111654Z
DTSTART;VALUE=DATE:20230613
DTEND;VALUE=DATE:20230613
SUMMARY:Angebotsfrist — Erbringung von Postdienstleistung vom 01.01.2024 bis 31.12.2
DESCRIPTION:Phase: Ausschreibung | Beschreibung: Angebote werden eingeholt | Link: https://ausschreibungsradar.com/ausschreibung/c4e88974-2ade-4117-828b-4c51d34cc11d/
URL:https://ausschreibungsradar.com/ausschreibung/c4e88974-2ade-4117-828b-4c51d34cc11d/
END:VEVENT
BEGIN:VEVENT
UID:e22617f5120883f7@ausschreibungsradar.com
DTSTAMP:20260425T111654Z
DTSTART;VALUE=DATE:20230620
DTEND;VALUE=DATE:20230620
SUMMARY:Änderung — Erbringung von Postdienstleistung vom 01.01.2024 bis 31.12.2
DESCRIPTION:Phase: Änderung | Beschreibung: Ausschreibung wurde angepasst | Link: https://ausschreibungsradar.com/ausschreibung/c4e88974-2ade-4117-828b-4c51d34cc11d/
URL:https://ausschreibungsradar.com/ausschreibung/c4e88974-2ade-4117-828b-4c51d34cc11d/
END:VEVENT
BEGIN:VEVENT
UID:920b70e0619637e3@ausschreibungsradar.com
DTSTAMP:20260425T111654Z
DTSTART;VALUE=DATE:20231026
DTEND;VALUE=DATE:20231026
SUMMARY:Vergabeergebnis — Erbringung von Postdienstleistung vom 01.01.2024 bis 31.12.2
DESCRIPTION:Phase: Vergabeergebnis | Beschreibung: Auftrag wurde zugeschlagen | Link: https://ausschreibungsradar.com/ausschreibung/71a3fde5-2132-49f5-ab21-292a25afdce5/
URL:https://ausschreibungsradar.com/ausschreibung/71a3fde5-2132-49f5-ab21-292a25afdce5/
END:VEVENT
BEGIN:VEVENT
UID:446add5a140c09c2@ausschreibungsradar.com
DTSTAMP:20260425T111654Z
DTSTART;VALUE=DATE:20231027
DTEND;VALUE=DATE:20231027
SUMMARY:Zuschlag — Erbringung von Postdienstleistung vom 01.01.2024 bis 31.12.2
DESCRIPTION:Phase: Zuschlag | Beschreibung: Vergabeergebnis — Auftrag wurde erteilt oder Verfahren beendet. | Link: https://ausschreibungsradar.com/ausschreibung/ted-657766-2023/
URL:https://ausschreibungsradar.com/ausschreibung/ted-657766-2023/
END:VEVENT
END:VCALENDAR
