BEGIN:VCALENDAR
VERSION:2.0
PRODID:-//AusschreibungsRadar//Timeline//DE
CALSCALE:GREGORIAN
METHOD:PUBLISH
X-WR-CALNAME:Projekt Beschaffung MZB Ölwehr
X-WR-TIMEZONE:Europe/Berlin
BEGIN:VEVENT
UID:34230d151edee9ba@ausschreibungsradar.com
DTSTAMP:20260425T194658Z
DTSTART;VALUE=DATE:20241025
DTEND;VALUE=DATE:20241025
SUMMARY:Angebotsfrist — Beschaffung MZB Ölwehr
DESCRIPTION:Phase: Ausschreibung | Beschreibung: Angebote werden eingeholt | Link: https://ausschreibungsradar.com/ausschreibung/7217dccd-3c49-4713-9255-9aa8c6027e62/
URL:https://ausschreibungsradar.com/ausschreibung/7217dccd-3c49-4713-9255-9aa8c6027e62/
END:VEVENT
BEGIN:VEVENT
UID:377eb3433a71c840@ausschreibungsradar.com
DTSTAMP:20260425T194658Z
DTSTART;VALUE=DATE:20241119
DTEND;VALUE=DATE:20241119
SUMMARY:Vergabeergebnis — Beschaffung MZB Ölwehr
DESCRIPTION:Phase: Vergabeergebnis | Beschreibung: Auftrag wurde zugeschlagen | Link: https://ausschreibungsradar.com/ausschreibung/98ad76a7-c328-4146-bde4-1cd3cc1b5bc5/
URL:https://ausschreibungsradar.com/ausschreibung/98ad76a7-c328-4146-bde4-1cd3cc1b5bc5/
END:VEVENT
END:VCALENDAR
