BEGIN:VCALENDAR
VERSION:2.0
PRODID:-//AusschreibungsRadar//Timeline//DE
CALSCALE:GREGORIAN
METHOD:PUBLISH
X-WR-CALNAME:Projekt Fachplanungsleistungen zur Technischen Ausrüstung Anlagengru
X-WR-TIMEZONE:Europe/Berlin
BEGIN:VEVENT
UID:3be13c4cc74ab4b4@ausschreibungsradar.com
DTSTAMP:20260424T141508Z
DTSTART;VALUE=DATE:20250127
DTEND;VALUE=DATE:20250127
SUMMARY:Angebotsfrist — Fachplanungsleistungen zur Technischen Ausrüstung Anlagengru
DESCRIPTION:Phase: Ausschreibung | Beschreibung: Angebote werden eingeholt | Link: https://ausschreibungsradar.com/ausschreibung/725ae015-5f07-4720-9a6c-e731031615b3/
URL:https://ausschreibungsradar.com/ausschreibung/725ae015-5f07-4720-9a6c-e731031615b3/
END:VEVENT
BEGIN:VEVENT
UID:9ce16bf452dc1ef7@ausschreibungsradar.com
DTSTAMP:20260424T141508Z
DTSTART;VALUE=DATE:20250414
DTEND;VALUE=DATE:20250414
SUMMARY:Vergabeergebnis — Fachplanungsleistungen zur Technischen Ausrüstung Anlagengru
DESCRIPTION:Phase: Vergabeergebnis | Beschreibung: Auftrag wurde zugeschlagen | Link: https://ausschreibungsradar.com/ausschreibung/58a415ec-b56e-4f0f-b1cd-b5841f30779f/ | Auftragnehmer: Ingenieur Consult Kröner 
URL:https://ausschreibungsradar.com/ausschreibung/58a415ec-b56e-4f0f-b1cd-b5841f30779f/
END:VEVENT
END:VCALENDAR
