BEGIN:VCALENDAR
VERSION:2.0
PRODID:-//AusschreibungsRadar//Timeline//DE
CALSCALE:GREGORIAN
METHOD:PUBLISH
X-WR-CALNAME:Projekt 2131 - Neubau Mittelschule Taufkirchen bei München, Gewerk 1
X-WR-TIMEZONE:Europe/Berlin
BEGIN:VEVENT
UID:eba217eb3ec18b13@ausschreibungsradar.com
DTSTAMP:20260425T121321Z
DTSTART;VALUE=DATE:20250226
DTEND;VALUE=DATE:20250226
SUMMARY:Angebotsfrist — 2131 - Neubau Mittelschule Taufkirchen bei München\, Gewerk 1
DESCRIPTION:Phase: Ausschreibung | Beschreibung: Angebote werden eingeholt | Link: https://ausschreibungsradar.com/ausschreibung/4e7756c4-cefe-48a3-a721-4bbe1c009cc9/
URL:https://ausschreibungsradar.com/ausschreibung/4e7756c4-cefe-48a3-a721-4bbe1c009cc9/
END:VEVENT
BEGIN:VEVENT
UID:642d2fff57522e7d@ausschreibungsradar.com
DTSTAMP:20260425T121321Z
DTSTART;VALUE=DATE:20250527
DTEND;VALUE=DATE:20250527
SUMMARY:Vergabeergebnis — 2131 - Neubau Mittelschule Taufkirchen bei München\, Gewerk 1
DESCRIPTION:Phase: Vergabeergebnis | Beschreibung: Auftrag wurde zugeschlagen | Link: https://ausschreibungsradar.com/ausschreibung/72a33afa-4507-49ef-aabc-378491cf9229/
URL:https://ausschreibungsradar.com/ausschreibung/72a33afa-4507-49ef-aabc-378491cf9229/
END:VEVENT
END:VCALENDAR
