BEGIN:VCALENDAR
VERSION:2.0
PRODID:-//AusschreibungsRadar//Timeline//DE
CALSCALE:GREGORIAN
METHOD:PUBLISH
X-WR-CALNAME:Projekt Objektplanung Außenanlagen und Abwasserkanal Neubau Feuerweh
X-WR-TIMEZONE:Europe/Berlin
BEGIN:VEVENT
UID:3867c6a2bd78daae@ausschreibungsradar.com
DTSTAMP:20260424T224044Z
DTSTART;VALUE=DATE:20250801
DTEND;VALUE=DATE:20250801
SUMMARY:Ausschreibung — Objektplanung Außenanlagen und Abwasserkanal Neubau Feuerweh
DESCRIPTION:Phase: Ausschreibung | Beschreibung: Angebote werden eingeholt | Link: https://ausschreibungsradar.com/ausschreibung/3c3400bc-d5dd-41c2-8476-6162546c22e9/
URL:https://ausschreibungsradar.com/ausschreibung/3c3400bc-d5dd-41c2-8476-6162546c22e9/
END:VEVENT
BEGIN:VEVENT
UID:0cf00ec5a5ffdcee@ausschreibungsradar.com
DTSTAMP:20260424T224044Z
DTSTART;VALUE=DATE:20251218
DTEND;VALUE=DATE:20251218
SUMMARY:Vergabeergebnis — Objektplanung Außenanlagen und Abwasserkanal Neubau Feuerweh
DESCRIPTION:Phase: Vergabeergebnis | Beschreibung: Auftrag wurde zugeschlagen | Link: https://ausschreibungsradar.com/ausschreibung/736a86e1-a6a4-47c4-bb82-cadced242707/
URL:https://ausschreibungsradar.com/ausschreibung/736a86e1-a6a4-47c4-bb82-cadced242707/
END:VEVENT
END:VCALENDAR
