BEGIN:VCALENDAR
VERSION:2.0
PRODID:-//AusschreibungsRadar//Timeline//DE
CALSCALE:GREGORIAN
METHOD:PUBLISH
X-WR-CALNAME:Projekt Multifunktionsgeräte 2025 - 2030
X-WR-TIMEZONE:Europe/Berlin
BEGIN:VEVENT
UID:9af4ccfedbc8826e@ausschreibungsradar.com
DTSTAMP:20260424T143949Z
DTSTART;VALUE=DATE:20250502
DTEND;VALUE=DATE:20250502
SUMMARY:Ausschreibung — Multifunktionsgeräte 2025 - 2030
DESCRIPTION:Phase: Ausschreibung | Beschreibung: Angebote werden eingeholt | Link: https://ausschreibungsradar.com/ausschreibung/73ffbe8b-7118-43aa-814b-56b82c2d05ba/
URL:https://ausschreibungsradar.com/ausschreibung/73ffbe8b-7118-43aa-814b-56b82c2d05ba/
END:VEVENT
BEGIN:VEVENT
UID:1cde336ddd3977e4@ausschreibungsradar.com
DTSTAMP:20260424T143949Z
DTSTART;VALUE=DATE:20251021
DTEND;VALUE=DATE:20251021
SUMMARY:Vergabeergebnis — Multifunktionsgeräte 2025 - 2030
DESCRIPTION:Phase: Vergabeergebnis | Beschreibung: Auftrag wurde zugeschlagen | Link: https://ausschreibungsradar.com/ausschreibung/a32f9629-3aa0-4bd2-94af-a19d84a1940c/
URL:https://ausschreibungsradar.com/ausschreibung/a32f9629-3aa0-4bd2-94af-a19d84a1940c/
END:VEVENT
END:VCALENDAR
