BEGIN:VCALENDAR
VERSION:2.0
PRODID:-//AusschreibungsRadar//Timeline//DE
CALSCALE:GREGORIAN
METHOD:PUBLISH
X-WR-CALNAME:Projekt Abbrucharbeiten/Rohbauarbeiten/Putzarbeiten
X-WR-TIMEZONE:Europe/Berlin
BEGIN:VEVENT
UID:3bae79d6198e9c48@ausschreibungsradar.com
DTSTAMP:20260425T025243Z
DTSTART;VALUE=DATE:20250506
DTEND;VALUE=DATE:20250506
SUMMARY:Angebotsfrist — Abbrucharbeiten/Rohbauarbeiten/Putzarbeiten
DESCRIPTION:Phase: Ausschreibung | Beschreibung: Angebote werden eingeholt | Link: https://ausschreibungsradar.com/ausschreibung/743b1094-7627-4b5b-b6ef-bd875dffe83c/
URL:https://ausschreibungsradar.com/ausschreibung/743b1094-7627-4b5b-b6ef-bd875dffe83c/
END:VEVENT
END:VCALENDAR
