BEGIN:VCALENDAR
VERSION:2.0
PRODID:-//AusschreibungsRadar//Timeline//DE
CALSCALE:GREGORIAN
METHOD:PUBLISH
X-WR-CALNAME:Projekt Heizungs-, Lüftungs- und Sanitärinstallation - Sanierung und
X-WR-TIMEZONE:Europe/Berlin
BEGIN:VEVENT
UID:657fd51aea437038@ausschreibungsradar.com
DTSTAMP:20260425T220152Z
DTSTART;VALUE=DATE:20250818
DTEND;VALUE=DATE:20250818
SUMMARY:Angebotsfrist — Heizungs-\, Lüftungs- und Sanitärinstallation - Sanierung und
DESCRIPTION:Phase: Ausschreibung | Beschreibung: Angebote werden eingeholt | Link: https://ausschreibungsradar.com/ausschreibung/74dffe0a-f308-4f61-9b13-dac4d2e30d42/
URL:https://ausschreibungsradar.com/ausschreibung/74dffe0a-f308-4f61-9b13-dac4d2e30d42/
END:VEVENT
BEGIN:VEVENT
UID:f3fd423ad3151195@ausschreibungsradar.com
DTSTAMP:20260425T220152Z
DTSTART;VALUE=DATE:20250717
DTEND;VALUE=DATE:20250717
SUMMARY:Ausschreibung — Heizungs-\, Lüftungs- und Sanitärinstallation - Sanierung und
DESCRIPTION:Phase: Ausschreibung | Beschreibung: Offizielle Ausschreibung mit Bieterfrist. | Link: https://ausschreibungsradar.com/ausschreibung/4143bfce-84da-4bef-b0b9-72e8796b080c/
URL:https://ausschreibungsradar.com/ausschreibung/4143bfce-84da-4bef-b0b9-72e8796b080c/
END:VEVENT
BEGIN:VEVENT
UID:9390254174ab3fe3@ausschreibungsradar.com
DTSTAMP:20260425T220152Z
DTSTART;VALUE=DATE:20250909
DTEND;VALUE=DATE:20250909
SUMMARY:Vergabeergebnis — Heizungs-\, Lüftungs- und Sanitärinstallation - Sanierung und
DESCRIPTION:Phase: Vergabeergebnis | Beschreibung: Auftrag wurde zugeschlagen | Link: https://ausschreibungsradar.com/ausschreibung/cfa74f9e-cb62-4d45-a9e0-e9477266e788/
URL:https://ausschreibungsradar.com/ausschreibung/cfa74f9e-cb62-4d45-a9e0-e9477266e788/
END:VEVENT
END:VCALENDAR
