BEGIN:VCALENDAR
VERSION:2.0
PRODID:-//AusschreibungsRadar//Timeline//DE
CALSCALE:GREGORIAN
METHOD:PUBLISH
X-WR-CALNAME:Projekt Rahmenvertrag KFZ-Ersatzteile MAN
X-WR-TIMEZONE:Europe/Berlin
BEGIN:VEVENT
UID:7fb4432327c7564b@ausschreibungsradar.com
DTSTAMP:20260424T124611Z
DTSTART;VALUE=DATE:20251104
DTEND;VALUE=DATE:20251104
SUMMARY:Angebotsfrist — Rahmenvertrag KFZ-Ersatzteile MAN
DESCRIPTION:Phase: Ausschreibung | Beschreibung: Angebote werden eingeholt | Link: https://ausschreibungsradar.com/ausschreibung/74ee1fd4-19dd-4f4b-b9e0-ed99611c67bd/
URL:https://ausschreibungsradar.com/ausschreibung/74ee1fd4-19dd-4f4b-b9e0-ed99611c67bd/
END:VEVENT
BEGIN:VEVENT
UID:d20c00d053de6e09@ausschreibungsradar.com
DTSTAMP:20260424T124611Z
DTSTART;VALUE=DATE:20260121
DTEND;VALUE=DATE:20260121
SUMMARY:Vergabeergebnis — Rahmenvertrag KFZ-Ersatzteile MAN
DESCRIPTION:Phase: Vergabeergebnis | Beschreibung: Auftrag wurde zugeschlagen | Link: https://ausschreibungsradar.com/ausschreibung/e10ea212-5054-4c8f-a76d-f679f9763405/
URL:https://ausschreibungsradar.com/ausschreibung/e10ea212-5054-4c8f-a76d-f679f9763405/
END:VEVENT
END:VCALENDAR
