BEGIN:VCALENDAR
VERSION:2.0
PRODID:-//AusschreibungsRadar//Timeline//DE
CALSCALE:GREGORIAN
METHOD:PUBLISH
X-WR-CALNAME:Projekt BLB NRW NL Köln / Technische Hochschule Köln, Campus Deutz, 
X-WR-TIMEZONE:Europe/Berlin
BEGIN:VEVENT
UID:b17dd0c5a8d545ea@ausschreibungsradar.com
DTSTAMP:20260425T213637Z
DTSTART;VALUE=DATE:20250819
DTEND;VALUE=DATE:20250819
SUMMARY:Ausschreibung — BLB NRW NL Köln / Technische Hochschule Köln\, Campus Deutz\, 
DESCRIPTION:Phase: Ausschreibung | Beschreibung: Offizielle Ausschreibung mit Bieterfrist. | Link: https://ausschreibungsradar.com/ausschreibung/b4e2c27e-0b7f-42a7-9df9-147473aed299/
URL:https://ausschreibungsradar.com/ausschreibung/b4e2c27e-0b7f-42a7-9df9-147473aed299/
END:VEVENT
BEGIN:VEVENT
UID:4a07028d85b438d4@ausschreibungsradar.com
DTSTAMP:20260425T213637Z
DTSTART;VALUE=DATE:20250929
DTEND;VALUE=DATE:20250929
SUMMARY:Angebotsfrist — BLB NRW NL Köln / Technische Hochschule Köln\, Campus Deutz\, 
DESCRIPTION:Phase: Ausschreibung | Beschreibung: Angebote werden eingeholt | Link: https://ausschreibungsradar.com/ausschreibung/754c08e0-8f07-4575-a976-7489d469c94c/
URL:https://ausschreibungsradar.com/ausschreibung/754c08e0-8f07-4575-a976-7489d469c94c/
END:VEVENT
BEGIN:VEVENT
UID:d05379c329b4bb8d@ausschreibungsradar.com
DTSTAMP:20260425T213637Z
DTSTART;VALUE=DATE:20251128
DTEND;VALUE=DATE:20251128
SUMMARY:Vergabeergebnis — BLB NRW NL Köln / Technische Hochschule Köln\, Campus Deutz\, 
DESCRIPTION:Phase: Vergabeergebnis | Beschreibung: Auftrag wurde zugeschlagen | Link: https://ausschreibungsradar.com/ausschreibung/8520a66a-755e-47c5-a2f9-1552a9b0e30f/
URL:https://ausschreibungsradar.com/ausschreibung/8520a66a-755e-47c5-a2f9-1552a9b0e30f/
END:VEVENT
END:VCALENDAR
