BEGIN:VCALENDAR
VERSION:2.0
PRODID:-//AusschreibungsRadar//Timeline//DE
CALSCALE:GREGORIAN
METHOD:PUBLISH
X-WR-CALNAME:Projekt Entsorgung von Krankenhausabfällen AVV180104
X-WR-TIMEZONE:Europe/Berlin
BEGIN:VEVENT
UID:63be404b8b981a7a@ausschreibungsradar.com
DTSTAMP:20260426T041009Z
DTSTART;VALUE=DATE:20250116
DTEND;VALUE=DATE:20250116
SUMMARY:Angebotsfrist — Entsorgung von Krankenhausabfällen AVV180104
DESCRIPTION:Phase: Ausschreibung | Beschreibung: Angebote werden eingeholt | Link: https://ausschreibungsradar.com/ausschreibung/759cef71-08d9-454e-a064-8010e763b356/
URL:https://ausschreibungsradar.com/ausschreibung/759cef71-08d9-454e-a064-8010e763b356/
END:VEVENT
END:VCALENDAR
