BEGIN:VCALENDAR
VERSION:2.0
PRODID:-//AusschreibungsRadar//Timeline//DE
CALSCALE:GREGORIAN
METHOD:PUBLISH
X-WR-CALNAME:Projekt Malerarbeiten
X-WR-TIMEZONE:Europe/Berlin
BEGIN:VEVENT
UID:80adb586aba66779@ausschreibungsradar.com
DTSTAMP:20260425T115238Z
DTSTART;VALUE=DATE:20250519
DTEND;VALUE=DATE:20250519
SUMMARY:Ausschreibung — Malerarbeiten
DESCRIPTION:Phase: Ausschreibung | Beschreibung: Offizielle Ausschreibung mit Bieterfrist. | Link: https://ausschreibungsradar.com/ausschreibung/e6cb7135-585b-4000-b71c-a173475e7986/
URL:https://ausschreibungsradar.com/ausschreibung/e6cb7135-585b-4000-b71c-a173475e7986/
END:VEVENT
BEGIN:VEVENT
UID:5ae56e6ab2cbfd94@ausschreibungsradar.com
DTSTAMP:20260425T115238Z
DTSTART;VALUE=DATE:20250929
DTEND;VALUE=DATE:20250929
SUMMARY:Ausschreibung — Malerarbeiten
DESCRIPTION:Phase: Ausschreibung | Beschreibung: Offizielle Ausschreibung mit Bieterfrist. | Link: https://ausschreibungsradar.com/ausschreibung/43bb08ff-3c3e-4ca2-abe0-8705929ed061/
URL:https://ausschreibungsradar.com/ausschreibung/43bb08ff-3c3e-4ca2-abe0-8705929ed061/
END:VEVENT
BEGIN:VEVENT
UID:23168adfe4cae612@ausschreibungsradar.com
DTSTAMP:20260425T115238Z
DTSTART;VALUE=DATE:20251105
DTEND;VALUE=DATE:20251105
SUMMARY:Ausschreibung — Malerarbeiten
DESCRIPTION:Phase: Ausschreibung | Beschreibung: Angebote werden eingeholt | Link: https://ausschreibungsradar.com/ausschreibung/75a302f8-0642-4aa2-90cb-cfe6ac4ed626/
URL:https://ausschreibungsradar.com/ausschreibung/75a302f8-0642-4aa2-90cb-cfe6ac4ed626/
END:VEVENT
END:VCALENDAR
