BEGIN:VCALENDAR
VERSION:2.0
PRODID:-//AusschreibungsRadar//Timeline//DE
CALSCALE:GREGORIAN
METHOD:PUBLISH
X-WR-CALNAME:Projekt Sanierung Theodor-Heuss-Grundschule Landstuhl - Tragwerkspla
X-WR-TIMEZONE:Europe/Berlin
BEGIN:VEVENT
UID:6fc6195247763c09@ausschreibungsradar.com
DTSTAMP:20260424T203338Z
DTSTART;VALUE=DATE:20240321
DTEND;VALUE=DATE:20240321
SUMMARY:Ausschreibung — Sanierung Theodor-Heuss-Grundschule Landstuhl - Tragwerkspla
DESCRIPTION:Phase: Ausschreibung | Beschreibung: Angebote werden eingeholt | Link: https://ausschreibungsradar.com/ausschreibung/f09bbd95-29ef-41a3-83e1-9336a5cec46c/
URL:https://ausschreibungsradar.com/ausschreibung/f09bbd95-29ef-41a3-83e1-9336a5cec46c/
END:VEVENT
BEGIN:VEVENT
UID:54aafee1d91f39a9@ausschreibungsradar.com
DTSTAMP:20260424T203338Z
DTSTART;VALUE=DATE:20241114
DTEND;VALUE=DATE:20241114
SUMMARY:Vergabeergebnis — Sanierung Theodor-Heuss-Grundschule Landstuhl - Tragwerkspla
DESCRIPTION:Phase: Vergabeergebnis | Beschreibung: Auftrag wurde zugeschlagen | Link: https://ausschreibungsradar.com/ausschreibung/75dde61e-a5bc-4e0a-9973-c7e5e2117d2d/
URL:https://ausschreibungsradar.com/ausschreibung/75dde61e-a5bc-4e0a-9973-c7e5e2117d2d/
END:VEVENT
BEGIN:VEVENT
UID:027609644e9aa15c@ausschreibungsradar.com
DTSTAMP:20260424T203338Z
DTSTART;VALUE=DATE:20241114
DTEND;VALUE=DATE:20241114
SUMMARY:Zuschlag — Sanierung Theodor-Heuss-Grundschule Landstuhl - Tragwerkspla
DESCRIPTION:Phase: Zuschlag | Beschreibung: Vergabeergebnis — Auftrag wurde erteilt oder Verfahren beendet. | Link: https://ausschreibungsradar.com/ausschreibung/279e0560-6501-4b96-a8ff-455d0baeeb77/
URL:https://ausschreibungsradar.com/ausschreibung/279e0560-6501-4b96-a8ff-455d0baeeb77/
END:VEVENT
END:VCALENDAR
