BEGIN:VCALENDAR
VERSION:2.0
PRODID:-//AusschreibungsRadar//Timeline//DE
CALSCALE:GREGORIAN
METHOD:PUBLISH
X-WR-CALNAME:Projekt Neubau Klinik Hohe Mark, 3. Bauabschnitt, Gewerk: Sanitär (A
X-WR-TIMEZONE:Europe/Berlin
BEGIN:VEVENT
UID:0deee514139dd95c@ausschreibungsradar.com
DTSTAMP:20260426T032741Z
DTSTART;VALUE=DATE:20240926
DTEND;VALUE=DATE:20240926
SUMMARY:Angebotsfrist — Neubau Klinik Hohe Mark\, 3. Bauabschnitt\, Gewerk: Sanitär (A
DESCRIPTION:Phase: Ausschreibung | Beschreibung: Angebote werden eingeholt | Link: https://ausschreibungsradar.com/ausschreibung/2c0a1b12-663d-4495-ae77-455cbd81b5d8/
URL:https://ausschreibungsradar.com/ausschreibung/2c0a1b12-663d-4495-ae77-455cbd81b5d8/
END:VEVENT
BEGIN:VEVENT
UID:26ad150a3ec686d0@ausschreibungsradar.com
DTSTAMP:20260426T032741Z
DTSTART;VALUE=DATE:20240726
DTEND;VALUE=DATE:20240726
SUMMARY:Ausschreibung — Neubau Klinik Hohe Mark\, 3. Bauabschnitt\, Gewerk: Sanitär (A
DESCRIPTION:Phase: Ausschreibung | Beschreibung: Offizielle Ausschreibung mit Bieterfrist. | Link: https://ausschreibungsradar.com/ausschreibung/1268d9b0-a99c-4b95-bcc3-8b72171a387d/
URL:https://ausschreibungsradar.com/ausschreibung/1268d9b0-a99c-4b95-bcc3-8b72171a387d/
END:VEVENT
BEGIN:VEVENT
UID:8472f81a1583004e@ausschreibungsradar.com
DTSTAMP:20260426T032741Z
DTSTART;VALUE=DATE:20241105
DTEND;VALUE=DATE:20241105
SUMMARY:Ausschreibung — Neubau Klinik Hohe Mark\, 3. Bauabschnitt\, Gewerk: Sanitär (A
DESCRIPTION:Phase: Ausschreibung | Beschreibung: Offizielle Ausschreibung mit Bieterfrist. | Link: https://ausschreibungsradar.com/ausschreibung/a4bfb899-82ce-410c-be94-a88755738c7d/
URL:https://ausschreibungsradar.com/ausschreibung/a4bfb899-82ce-410c-be94-a88755738c7d/
END:VEVENT
BEGIN:VEVENT
UID:107bef71df739d7f@ausschreibungsradar.com
DTSTAMP:20260426T032741Z
DTSTART;VALUE=DATE:20241108
DTEND;VALUE=DATE:20241108
SUMMARY:Vergabeergebnis — Neubau Klinik Hohe Mark\, 3. Bauabschnitt\, Gewerk: Sanitär (A
DESCRIPTION:Phase: Vergabeergebnis | Beschreibung: Sonstige Gründe | Link: https://ausschreibungsradar.com/ausschreibung/76a60ffa-aa82-4f54-acdd-746062dc3759/
URL:https://ausschreibungsradar.com/ausschreibung/76a60ffa-aa82-4f54-acdd-746062dc3759/
END:VEVENT
BEGIN:VEVENT
UID:b3b43d23478d9add@ausschreibungsradar.com
DTSTAMP:20260426T032741Z
DTSTART;VALUE=DATE:20241111
DTEND;VALUE=DATE:20241111
SUMMARY:Zuschlag — Neubau Klinik Hohe Mark\, 3. Bauabschnitt\, Gewerk: Sanitär (A
DESCRIPTION:Phase: Zuschlag | Beschreibung: Vergabeergebnis — Auftrag wurde erteilt oder Verfahren beendet. | Link: https://ausschreibungsradar.com/ausschreibung/ted-686330-2024/
URL:https://ausschreibungsradar.com/ausschreibung/ted-686330-2024/
END:VEVENT
END:VCALENDAR
