BEGIN:VCALENDAR
VERSION:2.0
PRODID:-//AusschreibungsRadar//Timeline//DE
CALSCALE:GREGORIAN
METHOD:PUBLISH
X-WR-CALNAME:Projekt Regionale Expressbuslinie X92 Kirchheim/Teck – Bad Boll – Gö
X-WR-TIMEZONE:Europe/Berlin
BEGIN:VEVENT
UID:c2453e546b926eeb@ausschreibungsradar.com
DTSTAMP:20260424T105443Z
DTSTART;VALUE=DATE:20251023
DTEND;VALUE=DATE:20251023
SUMMARY:Angebotsfrist — Regionale Expressbuslinie X92 Kirchheim/Teck – Bad Boll – Gö
DESCRIPTION:Phase: Ausschreibung | Beschreibung: Angebote werden eingeholt | Link: https://ausschreibungsradar.com/ausschreibung/76ca8a61-6ad9-49e3-aef2-359b30c5cbd7/
URL:https://ausschreibungsradar.com/ausschreibung/76ca8a61-6ad9-49e3-aef2-359b30c5cbd7/
END:VEVENT
BEGIN:VEVENT
UID:55b754a89550dd1c@ausschreibungsradar.com
DTSTAMP:20260424T105443Z
DTSTART;VALUE=DATE:20251221
DTEND;VALUE=DATE:20251221
SUMMARY:Vergabeergebnis — Regionale Expressbuslinie X92 Kirchheim/Teck – Bad Boll – Gö
DESCRIPTION:Phase: Vergabeergebnis | Beschreibung: Auftrag wurde zugeschlagen | Link: https://ausschreibungsradar.com/ausschreibung/70242854-5c3b-4322-a3d9-d1b50bc1066f/
URL:https://ausschreibungsradar.com/ausschreibung/70242854-5c3b-4322-a3d9-d1b50bc1066f/
END:VEVENT
END:VCALENDAR
