BEGIN:VCALENDAR
VERSION:2.0
PRODID:-//AusschreibungsRadar//Timeline//DE
CALSCALE:GREGORIAN
METHOD:PUBLISH
X-WR-CALNAME:Projekt Tanklöschfahrzeug 4000 nach DIN 14530-21
X-WR-TIMEZONE:Europe/Berlin
BEGIN:VEVENT
UID:e1ade138ea569d73@ausschreibungsradar.com
DTSTAMP:20260425T190144Z
DTSTART;VALUE=DATE:20260402
DTEND;VALUE=DATE:20260402
SUMMARY:Angebotsfrist — Tanklöschfahrzeug 4000 nach DIN 14530-21
DESCRIPTION:Phase: Ausschreibung | Beschreibung: Angebote werden eingeholt | Link: https://ausschreibungsradar.com/ausschreibung/76e707d4-7ff1-47e9-9bfc-a804ec63f58b/
URL:https://ausschreibungsradar.com/ausschreibung/76e707d4-7ff1-47e9-9bfc-a804ec63f58b/
END:VEVENT
BEGIN:VEVENT
UID:6e53924462ac1889@ausschreibungsradar.com
DTSTAMP:20260425T190144Z
DTSTART;VALUE=DATE:20260218
DTEND;VALUE=DATE:20260218
SUMMARY:Ausschreibung — Tanklöschfahrzeug 4000 nach DIN 14530-21
DESCRIPTION:Phase: Ausschreibung | Beschreibung: Offizielle Ausschreibung mit Bieterfrist. | Link: https://ausschreibungsradar.com/ausschreibung/bd2544c4-7fb0-431f-bec4-d8054729695d/
URL:https://ausschreibungsradar.com/ausschreibung/bd2544c4-7fb0-431f-bec4-d8054729695d/
END:VEVENT
BEGIN:VEVENT
UID:bb4d89cde018d8b7@ausschreibungsradar.com
DTSTAMP:20260425T190144Z
DTSTART;VALUE=DATE:20260218
DTEND;VALUE=DATE:20260218
SUMMARY:Ausschreibung — Tanklöschfahrzeug 4000 nach DIN 14530-21
DESCRIPTION:Phase: Ausschreibung | Beschreibung: Offizielle Ausschreibung mit Bieterfrist. | Link: https://ausschreibungsradar.com/ausschreibung/25887682-1de0-42d8-ad67-ae2da2262f6c/
URL:https://ausschreibungsradar.com/ausschreibung/25887682-1de0-42d8-ad67-ae2da2262f6c/
END:VEVENT
END:VCALENDAR
