BEGIN:VCALENDAR
VERSION:2.0
PRODID:-//AusschreibungsRadar//Timeline//DE
CALSCALE:GREGORIAN
METHOD:PUBLISH
X-WR-CALNAME:Projekt Containergestellung und Transport von Grün- und Bioabfällen 
X-WR-TIMEZONE:Europe/Berlin
BEGIN:VEVENT
UID:fb8a4677745d6682@ausschreibungsradar.com
DTSTAMP:20260425T190258Z
DTSTART;VALUE=DATE:20250819
DTEND;VALUE=DATE:20250819
SUMMARY:Angebotsfrist — Containergestellung und Transport von Grün- und Bioabfällen 
DESCRIPTION:Phase: Ausschreibung | Beschreibung: Angebote werden eingeholt | Link: https://ausschreibungsradar.com/ausschreibung/e98e54c7-5f5f-41a0-93a2-9b1ae6a85287/
URL:https://ausschreibungsradar.com/ausschreibung/e98e54c7-5f5f-41a0-93a2-9b1ae6a85287/
END:VEVENT
BEGIN:VEVENT
UID:42219ad6b9dc9a41@ausschreibungsradar.com
DTSTAMP:20260425T190258Z
DTSTART;VALUE=DATE:20250901
DTEND;VALUE=DATE:20250901
SUMMARY:Vergabeergebnis — Containergestellung und Transport von Grün- und Bioabfällen 
DESCRIPTION:Phase: Vergabeergebnis | Beschreibung: Auftrag wurde zugeschlagen | Link: https://ausschreibungsradar.com/ausschreibung/772e3fda-ce00-4088-84ce-0e28e35dfe89/
URL:https://ausschreibungsradar.com/ausschreibung/772e3fda-ce00-4088-84ce-0e28e35dfe89/
END:VEVENT
END:VCALENDAR
