BEGIN:VCALENDAR
VERSION:2.0
PRODID:-//AusschreibungsRadar//Timeline//DE
CALSCALE:GREGORIAN
METHOD:PUBLISH
X-WR-CALNAME:Projekt Beschaffung eines feuerwehrtechnischen Aufbaus für ein LF 20
X-WR-TIMEZONE:Europe/Berlin
BEGIN:VEVENT
UID:2a228c965d9116b7@ausschreibungsradar.com
DTSTAMP:20260425T184706Z
DTSTART;VALUE=DATE:20241216
DTEND;VALUE=DATE:20241216
SUMMARY:Angebotsfrist — Beschaffung eines feuerwehrtechnischen Aufbaus für ein LF 20
DESCRIPTION:Phase: Ausschreibung | Beschreibung: Angebote werden eingeholt | Link: https://ausschreibungsradar.com/ausschreibung/7735582e-7834-4933-be0d-2d12192e8ab7/
URL:https://ausschreibungsradar.com/ausschreibung/7735582e-7834-4933-be0d-2d12192e8ab7/
END:VEVENT
END:VCALENDAR
