BEGIN:VCALENDAR
VERSION:2.0
PRODID:-//AusschreibungsRadar//Timeline//DE
CALSCALE:GREGORIAN
METHOD:PUBLISH
X-WR-CALNAME:Projekt Breitbandausbau hellgraue und dunkelgraue Flecken Ilshofen 2
X-WR-TIMEZONE:Europe/Berlin
BEGIN:VEVENT
UID:6885ae4f000a60e7@ausschreibungsradar.com
DTSTAMP:20260425T110230Z
DTSTART;VALUE=DATE:20240522
DTEND;VALUE=DATE:20240522
SUMMARY:Angebotsfrist — Breitbandausbau hellgraue und dunkelgraue Flecken Ilshofen 2
DESCRIPTION:Phase: Ausschreibung | Beschreibung: Angebote werden eingeholt | Link: https://ausschreibungsradar.com/ausschreibung/7787de2d-5b3b-4d99-b9a0-844e12a78c91/ | Geschätzter Wert: 12300000 €
URL:https://ausschreibungsradar.com/ausschreibung/7787de2d-5b3b-4d99-b9a0-844e12a78c91/
END:VEVENT
BEGIN:VEVENT
UID:6248280a85285524@ausschreibungsradar.com
DTSTAMP:20260425T110230Z
DTSTART;VALUE=DATE:20250702
DTEND;VALUE=DATE:20250702
SUMMARY:Vergabeergebnis — Breitbandausbau hellgraue und dunkelgraue Flecken Ilshofen 2
DESCRIPTION:Phase: Vergabeergebnis | Beschreibung: Auftrag wurde zugeschlagen | Link: https://ausschreibungsradar.com/ausschreibung/b53d6f71-df33-4056-94bd-3062327c2cfb/
URL:https://ausschreibungsradar.com/ausschreibung/b53d6f71-df33-4056-94bd-3062327c2cfb/
END:VEVENT
END:VCALENDAR
