BEGIN:VCALENDAR
VERSION:2.0
PRODID:-//AusschreibungsRadar//Timeline//DE
CALSCALE:GREGORIAN
METHOD:PUBLISH
X-WR-CALNAME:Projekt Labortechnik
X-WR-TIMEZONE:Europe/Berlin
BEGIN:VEVENT
UID:00f155a8602b5552@ausschreibungsradar.com
DTSTAMP:20260424T131336Z
DTSTART;VALUE=DATE:20251029
DTEND;VALUE=DATE:20251029
SUMMARY:Angebotsfrist — Labortechnik
DESCRIPTION:Phase: Ausschreibung | Beschreibung: Angebote werden eingeholt | Link: https://ausschreibungsradar.com/ausschreibung/77af7378-40c3-4f5e-9482-175b10141efd/
URL:https://ausschreibungsradar.com/ausschreibung/77af7378-40c3-4f5e-9482-175b10141efd/
END:VEVENT
BEGIN:VEVENT
UID:00af6ffa85041863@ausschreibungsradar.com
DTSTAMP:20260424T131336Z
DTSTART;VALUE=DATE:20251216
DTEND;VALUE=DATE:20251216
SUMMARY:Vergabeergebnis — Labortechnik
DESCRIPTION:Phase: Vergabeergebnis | Beschreibung: Auftrag wurde zugeschlagen | Link: https://ausschreibungsradar.com/ausschreibung/381ac1ad-5759-4808-b009-ee73dbe4a5e6/
URL:https://ausschreibungsradar.com/ausschreibung/381ac1ad-5759-4808-b009-ee73dbe4a5e6/
END:VEVENT
END:VCALENDAR
