BEGIN:VCALENDAR
VERSION:2.0
PRODID:-//AusschreibungsRadar//Timeline//DE
CALSCALE:GREGORIAN
METHOD:PUBLISH
X-WR-CALNAME:Projekt 6002820298-BwDLZ Augustdorf - Rahmenvereinbarung über die Ge
X-WR-TIMEZONE:Europe/Berlin
BEGIN:VEVENT
UID:10b4dc5fbb997470@ausschreibungsradar.com
DTSTAMP:20260425T180802Z
DTSTART;VALUE=DATE:20250313
DTEND;VALUE=DATE:20250313
SUMMARY:Ausschreibung — 6002820298-BwDLZ Augustdorf - Rahmenvereinbarung über die Ge
DESCRIPTION:Phase: Ausschreibung | Beschreibung: Offizielle Ausschreibung mit Bieterfrist. | Link: https://ausschreibungsradar.com/ausschreibung/7193c243-c27a-4df9-aca6-625def9c6414/
URL:https://ausschreibungsradar.com/ausschreibung/7193c243-c27a-4df9-aca6-625def9c6414/
END:VEVENT
BEGIN:VEVENT
UID:c831db6bced941ae@ausschreibungsradar.com
DTSTAMP:20260425T180802Z
DTSTART;VALUE=DATE:20250319
DTEND;VALUE=DATE:20250319
SUMMARY:Ausschreibung — 6002820298-BwDLZ Augustdorf - Rahmenvereinbarung über die Ge
DESCRIPTION:Phase: Ausschreibung | Beschreibung: Angebote werden eingeholt | Link: https://ausschreibungsradar.com/ausschreibung/77e1712c-301e-4f79-a578-ca8e36c471a0/
URL:https://ausschreibungsradar.com/ausschreibung/77e1712c-301e-4f79-a578-ca8e36c471a0/
END:VEVENT
BEGIN:VEVENT
UID:f94914aadea20692@ausschreibungsradar.com
DTSTAMP:20260425T180802Z
DTSTART;VALUE=DATE:20250618
DTEND;VALUE=DATE:20250618
SUMMARY:Vergabeergebnis — 6002820298-BwDLZ Augustdorf - Rahmenvereinbarung über die Ge
DESCRIPTION:Phase: Vergabeergebnis | Beschreibung: Auftrag wurde zugeschlagen | Link: https://ausschreibungsradar.com/ausschreibung/8e7e8539-4b38-4443-9ff7-df96bec5d411/
URL:https://ausschreibungsradar.com/ausschreibung/8e7e8539-4b38-4443-9ff7-df96bec5d411/
END:VEVENT
END:VCALENDAR
