BEGIN:VCALENDAR
VERSION:2.0
PRODID:-//AusschreibungsRadar//Timeline//DE
CALSCALE:GREGORIAN
METHOD:PUBLISH
X-WR-CALNAME:Projekt Planungsleistungen der Tragwerksplanung für den Neubau der G
X-WR-TIMEZONE:Europe/Berlin
BEGIN:VEVENT
UID:bba442c357e1c7a1@ausschreibungsradar.com
DTSTAMP:20260424T105550Z
DTSTART;VALUE=DATE:20260122
DTEND;VALUE=DATE:20260122
SUMMARY:Angebotsfrist — Planungsleistungen der Tragwerksplanung für den Neubau der G
DESCRIPTION:Phase: Ausschreibung | Beschreibung: Angebote werden eingeholt | Link: https://ausschreibungsradar.com/ausschreibung/7809edcb-2336-4a08-9633-ea71cb1e0aaf/
URL:https://ausschreibungsradar.com/ausschreibung/7809edcb-2336-4a08-9633-ea71cb1e0aaf/
END:VEVENT
END:VCALENDAR
