BEGIN:VCALENDAR
VERSION:2.0
PRODID:-//AusschreibungsRadar//Timeline//DE
CALSCALE:GREGORIAN
METHOD:PUBLISH
X-WR-CALNAME:Projekt Abriss und Neubau Wohngebäude Heckenrosenweg 1
X-WR-TIMEZONE:Europe/Berlin
BEGIN:VEVENT
UID:6e9429c53cf7a51b@ausschreibungsradar.com
DTSTAMP:20260425T184701Z
DTSTART;VALUE=DATE:20250308
DTEND;VALUE=DATE:20250308
SUMMARY:Ausschreibung — Abriss und Neubau Wohngebäude Heckenrosenweg 1
DESCRIPTION:Phase: Ausschreibung | Beschreibung: Offizielle Ausschreibung mit Bieterfrist. | Link: https://ausschreibungsradar.com/ausschreibung/783d41e6-3522-497f-90b7-50252da52e41/
URL:https://ausschreibungsradar.com/ausschreibung/783d41e6-3522-497f-90b7-50252da52e41/
END:VEVENT
BEGIN:VEVENT
UID:ad7e898738bc10dd@ausschreibungsradar.com
DTSTAMP:20260425T184701Z
DTSTART;VALUE=DATE:20250308
DTEND;VALUE=DATE:20250308
SUMMARY:Ausschreibung — Abriss und Neubau Wohngebäude Heckenrosenweg 1
DESCRIPTION:Phase: Ausschreibung | Beschreibung: Offizielle Ausschreibung mit Bieterfrist. | Link: https://ausschreibungsradar.com/ausschreibung/8c32b729-5546-4136-a0d8-9d7d90e88647/
URL:https://ausschreibungsradar.com/ausschreibung/8c32b729-5546-4136-a0d8-9d7d90e88647/
END:VEVENT
END:VCALENDAR
