BEGIN:VCALENDAR
VERSION:2.0
PRODID:-//AusschreibungsRadar//Timeline//DE
CALSCALE:GREGORIAN
METHOD:PUBLISH
X-WR-CALNAME:Projekt Gewerbeküche Kitaneubau HH-Straße
X-WR-TIMEZONE:Europe/Berlin
BEGIN:VEVENT
UID:a182aa95dbf6c507@ausschreibungsradar.com
DTSTAMP:20260425T033311Z
DTSTART;VALUE=DATE:20250307
DTEND;VALUE=DATE:20250307
SUMMARY:Angebotsfrist — Gewerbeküche Kitaneubau HH-Straße
DESCRIPTION:Phase: Ausschreibung | Beschreibung: Angebote werden eingeholt | Link: https://ausschreibungsradar.com/ausschreibung/785522df-01ae-48ef-9b23-c9be5c707b69/
URL:https://ausschreibungsradar.com/ausschreibung/785522df-01ae-48ef-9b23-c9be5c707b69/
END:VEVENT
END:VCALENDAR
