BEGIN:VCALENDAR
VERSION:2.0
PRODID:-//AusschreibungsRadar//Timeline//DE
CALSCALE:GREGORIAN
METHOD:PUBLISH
X-WR-CALNAME:Projekt BERNATURA Streuobstkompetenzzentrum Burgbernheim
Sonnenschut
X-WR-TIMEZONE:Europe/Berlin
BEGIN:VEVENT
UID:c129ca5d2fdcddcd@ausschreibungsradar.com
DTSTAMP:20260426T025751Z
DTSTART;VALUE=DATE:20240619
DTEND;VALUE=DATE:20240619
SUMMARY:Zuschlag — BERNATURA Streuobstkompetenzzentrum Burgbernheim\nSonnenschut
DESCRIPTION:Phase: Zuschlag | Beschreibung: Vergabeergebnis — Auftrag wurde erteilt oder Verfahren beendet. | Link: https://ausschreibungsradar.com/ausschreibung/786333f3-13f4-4bcb-a205-a6e006152dd3/ | Geschätzte
URL:https://ausschreibungsradar.com/ausschreibung/786333f3-13f4-4bcb-a205-a6e006152dd3/
END:VEVENT
BEGIN:VEVENT
UID:e1f5c85e6ad10538@ausschreibungsradar.com
DTSTAMP:20260426T025751Z
DTSTART;VALUE=DATE:20240620
DTEND;VALUE=DATE:20240620
SUMMARY:Zuschlag — BERNATURA Streuobstkompetenzzentrum Burgbernheim\nSonnenschut
DESCRIPTION:Phase: Zuschlag | Beschreibung: Vergabeergebnis — Auftrag wurde erteilt oder Verfahren beendet. | Link: https://ausschreibungsradar.com/ausschreibung/ted-366691-2024/
URL:https://ausschreibungsradar.com/ausschreibung/ted-366691-2024/
END:VEVENT
BEGIN:VEVENT
UID:fb995eafcdb78f46@ausschreibungsradar.com
DTSTAMP:20260426T025751Z
DTSTART;VALUE=DATE:20240712
DTEND;VALUE=DATE:20240712
SUMMARY:Ausschreibung — BERNATURA Streuobstkompetenzzentrum Burgbernheim\nSonnenschut
DESCRIPTION:Phase: Ausschreibung | Beschreibung: Offizielle Ausschreibung mit Bieterfrist. | Link: https://ausschreibungsradar.com/ausschreibung/ee881f2a-dde7-4b03-a87f-7e26d5f5dc20/
URL:https://ausschreibungsradar.com/ausschreibung/ee881f2a-dde7-4b03-a87f-7e26d5f5dc20/
END:VEVENT
END:VCALENDAR
