BEGIN:VCALENDAR
VERSION:2.0
PRODID:-//AusschreibungsRadar//Timeline//DE
CALSCALE:GREGORIAN
METHOD:PUBLISH
X-WR-CALNAME:Projekt KRH Psychiatrie Wunstorf GmbH - Neubau einer Erwachsenenpsyc
X-WR-TIMEZONE:Europe/Berlin
BEGIN:VEVENT
UID:1dbdafbcf642c270@ausschreibungsradar.com
DTSTAMP:20260425T222226Z
DTSTART;VALUE=DATE:20250122
DTEND;VALUE=DATE:20250122
SUMMARY:Ausschreibung — KRH Psychiatrie Wunstorf GmbH - Neubau einer Erwachsenenpsyc
DESCRIPTION:Phase: Ausschreibung | Beschreibung: Angebote werden eingeholt | Link: https://ausschreibungsradar.com/ausschreibung/d160ebe4-b330-4b76-8b56-935aeb18195c/
URL:https://ausschreibungsradar.com/ausschreibung/d160ebe4-b330-4b76-8b56-935aeb18195c/
END:VEVENT
BEGIN:VEVENT
UID:45e0c9c99d69c20a@ausschreibungsradar.com
DTSTAMP:20260425T222226Z
DTSTART;VALUE=DATE:20250317
DTEND;VALUE=DATE:20250317
SUMMARY:Zuschlag — KRH Psychiatrie Wunstorf GmbH - Neubau einer Erwachsenenpsyc
DESCRIPTION:Phase: Zuschlag | Beschreibung: Vergabeergebnis — Auftrag wurde erteilt oder Verfahren beendet. | Link: https://ausschreibungsradar.com/ausschreibung/5739e5b0-1ea5-4a63-b29a-1d88e85ec018/
URL:https://ausschreibungsradar.com/ausschreibung/5739e5b0-1ea5-4a63-b29a-1d88e85ec018/
END:VEVENT
BEGIN:VEVENT
UID:965aefcf6892c00b@ausschreibungsradar.com
DTSTAMP:20260425T222226Z
DTSTART;VALUE=DATE:20250318
DTEND;VALUE=DATE:20250318
SUMMARY:Vergabeergebnis — KRH Psychiatrie Wunstorf GmbH - Neubau einer Erwachsenenpsyc
DESCRIPTION:Phase: Vergabeergebnis | Beschreibung: Auftrag wurde zugeschlagen | Link: https://ausschreibungsradar.com/ausschreibung/78d102d2-49e4-4ce4-b7a1-f67d2e2f7b25/
URL:https://ausschreibungsradar.com/ausschreibung/78d102d2-49e4-4ce4-b7a1-f67d2e2f7b25/
END:VEVENT
BEGIN:VEVENT
UID:161aedd792987ff5@ausschreibungsradar.com
DTSTAMP:20260425T222226Z
DTSTART;VALUE=DATE:20250329
DTEND;VALUE=DATE:20250329
SUMMARY:Ausschreibung — KRH Psychiatrie Wunstorf GmbH - Neubau einer Erwachsenenpsyc
DESCRIPTION:Phase: Ausschreibung | Beschreibung: Offizielle Ausschreibung mit Bieterfrist. | Link: https://ausschreibungsradar.com/ausschreibung/a422718b-458f-41fd-8d28-d128b46bdb81/
URL:https://ausschreibungsradar.com/ausschreibung/a422718b-458f-41fd-8d28-d128b46bdb81/
END:VEVENT
END:VCALENDAR
