BEGIN:VCALENDAR
VERSION:2.0
PRODID:-//AusschreibungsRadar//Timeline//DE
CALSCALE:GREGORIAN
METHOD:PUBLISH
X-WR-CALNAME:Projekt Erweiterung Grundschule Großschwarzenlohe - Heizung
X-WR-TIMEZONE:Europe/Berlin
BEGIN:VEVENT
UID:540d82ca543a81c8@ausschreibungsradar.com
DTSTAMP:20260425T194221Z
DTSTART;VALUE=DATE:20250602
DTEND;VALUE=DATE:20250602
SUMMARY:Angebotsfrist — Erweiterung Grundschule Großschwarzenlohe - Heizung
DESCRIPTION:Phase: Ausschreibung | Beschreibung: Angebote werden eingeholt | Link: https://ausschreibungsradar.com/ausschreibung/d18367c5-a12f-4b92-80da-52969ece73c0/ | Geschätzter Wert: 167460 €
URL:https://ausschreibungsradar.com/ausschreibung/d18367c5-a12f-4b92-80da-52969ece73c0/
END:VEVENT
BEGIN:VEVENT
UID:79d5056236302eb0@ausschreibungsradar.com
DTSTAMP:20260425T194221Z
DTSTART;VALUE=DATE:20250702
DTEND;VALUE=DATE:20250702
SUMMARY:Vergabeergebnis — Erweiterung Grundschule Großschwarzenlohe - Heizung
DESCRIPTION:Phase: Vergabeergebnis | Beschreibung: Auftrag wurde zugeschlagen | Link: https://ausschreibungsradar.com/ausschreibung/7904db5f-4cca-4144-a3a1-5260b526be9f/
URL:https://ausschreibungsradar.com/ausschreibung/7904db5f-4cca-4144-a3a1-5260b526be9f/
END:VEVENT
BEGIN:VEVENT
UID:6f846603eb95b1a5@ausschreibungsradar.com
DTSTAMP:20260425T194221Z
DTSTART;VALUE=DATE:20250728
DTEND;VALUE=DATE:20250728
SUMMARY:Zuschlag — Erweiterung Grundschule Großschwarzenlohe - Heizung
DESCRIPTION:Phase: Zuschlag | Beschreibung: Vergabeergebnis — Auftrag wurde erteilt oder Verfahren beendet. | Link: https://ausschreibungsradar.com/ausschreibung/657584f9-e8ca-4b15-ad19-4957e50c46a6/
URL:https://ausschreibungsradar.com/ausschreibung/657584f9-e8ca-4b15-ad19-4957e50c46a6/
END:VEVENT
END:VCALENDAR
