BEGIN:VCALENDAR
VERSION:2.0
PRODID:-//AusschreibungsRadar//Timeline//DE
CALSCALE:GREGORIAN
METHOD:PUBLISH
X-WR-CALNAME:Projekt Beratung, Bauüberwachung und Begleitung der Abnahmen von Zwe
X-WR-TIMEZONE:Europe/Berlin
BEGIN:VEVENT
UID:fd134fae8e8e975e@ausschreibungsradar.com
DTSTAMP:20260425T013358Z
DTSTART;VALUE=DATE:20251224
DTEND;VALUE=DATE:20251224
SUMMARY:Ausschreibung — Beratung\, Bauüberwachung und Begleitung der Abnahmen von Zwe
DESCRIPTION:Phase: Ausschreibung | Beschreibung: Angebote werden eingeholt | Link: https://ausschreibungsradar.com/ausschreibung/790f94c3-be69-41a4-a6b2-68cfa2def497/
URL:https://ausschreibungsradar.com/ausschreibung/790f94c3-be69-41a4-a6b2-68cfa2def497/
END:VEVENT
BEGIN:VEVENT
UID:dabb7413ceb9fd5e@ausschreibungsradar.com
DTSTAMP:20260425T013358Z
DTSTART;VALUE=DATE:20251224
DTEND;VALUE=DATE:20251224
SUMMARY:Ausschreibung — Beratung\, Bauüberwachung und Begleitung der Abnahmen von Zwe
DESCRIPTION:Phase: Ausschreibung | Beschreibung: Offizielle Ausschreibung mit Bieterfrist. | Link: https://ausschreibungsradar.com/ausschreibung/0c50d428-2435-4421-a964-bfcde6824b2f/
URL:https://ausschreibungsradar.com/ausschreibung/0c50d428-2435-4421-a964-bfcde6824b2f/
END:VEVENT
BEGIN:VEVENT
UID:c0899edd427515e5@ausschreibungsradar.com
DTSTAMP:20260425T013358Z
DTSTART;VALUE=DATE:20251224
DTEND;VALUE=DATE:20251224
SUMMARY:Ausschreibung — Beratung\, Bauüberwachung und Begleitung der Abnahmen von Zwe
DESCRIPTION:Phase: Ausschreibung | Beschreibung: Offizielle Ausschreibung mit Bieterfrist. | Link: https://ausschreibungsradar.com/ausschreibung/dbab15ec-13ea-4bf8-8138-c824045b6d06/
URL:https://ausschreibungsradar.com/ausschreibung/dbab15ec-13ea-4bf8-8138-c824045b6d06/
END:VEVENT
END:VCALENDAR
