BEGIN:VCALENDAR
VERSION:2.0
PRODID:-//AusschreibungsRadar//Timeline//DE
CALSCALE:GREGORIAN
METHOD:PUBLISH
X-WR-CALNAME:Projekt Fimo/HB: S-Bahn Bln, GUw Lak Ersatzneubau, GUw Gbs, Tst Pots
X-WR-TIMEZONE:Europe/Berlin
BEGIN:VEVENT
UID:0427fab018ea3aa9@ausschreibungsradar.com
DTSTAMP:20260424T041839Z
DTSTART;VALUE=DATE:20250717
DTEND;VALUE=DATE:20250717
SUMMARY:Vertragsmodifikation — Fimo/HB: S-Bahn Bln\, GUw Lak Ersatzneubau\, GUw Gbs\, Tst Pots
DESCRIPTION:Phase: Vertragsmodifikation | Beschreibung: Änderung am bestehenden Vertrag nach Zuschlag. | Link: https://ausschreibungsradar.com/ausschreibung/d658b98e-cd0a-4b65-bc84-42bd0a3f258a/
URL:https://ausschreibungsradar.com/ausschreibung/d658b98e-cd0a-4b65-bc84-42bd0a3f258a/
END:VEVENT
BEGIN:VEVENT
UID:fe617034dad0fdd5@ausschreibungsradar.com
DTSTAMP:20260424T041839Z
DTSTART;VALUE=DATE:20251210
DTEND;VALUE=DATE:20251210
SUMMARY:Vertragsmodifikation — Fimo/HB: S-Bahn Bln\, GUw Lak Ersatzneubau\, GUw Gbs\, Tst Pots
DESCRIPTION:Phase: Vertragsmodifikation | Beschreibung: Änderung am bestehenden Vertrag nach Zuschlag. | Link: https://ausschreibungsradar.com/ausschreibung/ab866848-b221-475e-97d8-1ae270247314/
URL:https://ausschreibungsradar.com/ausschreibung/ab866848-b221-475e-97d8-1ae270247314/
END:VEVENT
BEGIN:VEVENT
UID:1ec20594549811c6@ausschreibungsradar.com
DTSTAMP:20260424T041839Z
DTSTART;VALUE=DATE:20251217
DTEND;VALUE=DATE:20251217
SUMMARY:Vertragsmodifikation — Fimo/HB: S-Bahn Bln\, GUw Lak Ersatzneubau\, GUw Gbs\, Tst Pots
DESCRIPTION:Phase: Vertragsmodifikation | Beschreibung: Änderung am bestehenden Vertrag nach Zuschlag. | Link: https://ausschreibungsradar.com/ausschreibung/4dd0b89d-892c-47ef-8624-2fc4f643cbe6/
URL:https://ausschreibungsradar.com/ausschreibung/4dd0b89d-892c-47ef-8624-2fc4f643cbe6/
END:VEVENT
BEGIN:VEVENT
UID:96dde5cbced128f9@ausschreibungsradar.com
DTSTAMP:20260424T041839Z
DTSTART;VALUE=DATE:20260115
DTEND;VALUE=DATE:20260115
SUMMARY:Vertragsmodifikation — Fimo/HB: S-Bahn Bln\, GUw Lak Ersatzneubau\, GUw Gbs\, Tst Pots
DESCRIPTION:Phase: Vertragsmodifikation | Beschreibung: Änderung am bestehenden Vertrag nach Zuschlag. | Link: https://ausschreibungsradar.com/ausschreibung/9eb27969-cd00-4e10-89b6-465c78804b58/
URL:https://ausschreibungsradar.com/ausschreibung/9eb27969-cd00-4e10-89b6-465c78804b58/
END:VEVENT
BEGIN:VEVENT
UID:ba6db9b5a4813bc0@ausschreibungsradar.com
DTSTAMP:20260424T041839Z
DTSTART;VALUE=DATE:20260127
DTEND;VALUE=DATE:20260127
SUMMARY:Vertragsänderung — Fimo/HB: S-Bahn Bln\, GUw Lak Ersatzneubau\, GUw Gbs\, Tst Pots
DESCRIPTION:Phase: Vertragsänderung | Beschreibung: Zusätzliche Lieferungen/Leistungen beauftragt | Link: https://ausschreibungsradar.com/ausschreibung/79f7ad87-437c-4d6c-a385-dfb73a688437/
URL:https://ausschreibungsradar.com/ausschreibung/79f7ad87-437c-4d6c-a385-dfb73a688437/
END:VEVENT
BEGIN:VEVENT
UID:d57034e829324a78@ausschreibungsradar.com
DTSTAMP:20260424T041839Z
DTSTART;VALUE=DATE:20260127
DTEND;VALUE=DATE:20260127
SUMMARY:Vertragsmodifikation — Fimo/HB: S-Bahn Bln\, GUw Lak Ersatzneubau\, GUw Gbs\, Tst Pots
DESCRIPTION:Phase: Vertragsmodifikation | Beschreibung: Änderung am bestehenden Vertrag nach Zuschlag. | Link: https://ausschreibungsradar.com/ausschreibung/29599e5c-be0c-49d9-8b58-db5561cc8257/
URL:https://ausschreibungsradar.com/ausschreibung/29599e5c-be0c-49d9-8b58-db5561cc8257/
END:VEVENT
END:VCALENDAR
