BEGIN:VCALENDAR
VERSION:2.0
PRODID:-//AusschreibungsRadar//Timeline//DE
CALSCALE:GREGORIAN
METHOD:PUBLISH
X-WR-CALNAME:Projekt Tamm - Erschließung Fernwärme mit Erneuerung Wasserleitung A
X-WR-TIMEZONE:Europe/Berlin
BEGIN:VEVENT
UID:f58de04752c40659@ausschreibungsradar.com
DTSTAMP:20260424T181119Z
DTSTART;VALUE=DATE:20241101
DTEND;VALUE=DATE:20241101
SUMMARY:Ausschreibung — Tamm - Erschließung Fernwärme mit Erneuerung Wasserleitung A
DESCRIPTION:Phase: Ausschreibung | Beschreibung: Offizielle Ausschreibung mit Bieterfrist. | Link: https://ausschreibungsradar.com/ausschreibung/c5f5a8f6-941f-4c6c-8e04-9c4ed4d16c20/
URL:https://ausschreibungsradar.com/ausschreibung/c5f5a8f6-941f-4c6c-8e04-9c4ed4d16c20/
END:VEVENT
BEGIN:VEVENT
UID:d8b2457ed750d9ee@ausschreibungsradar.com
DTSTAMP:20260424T181119Z
DTSTART;VALUE=DATE:20241101
DTEND;VALUE=DATE:20241101
SUMMARY:Ausschreibung — Tamm - Erschließung Fernwärme mit Erneuerung Wasserleitung A
DESCRIPTION:Phase: Ausschreibung | Beschreibung: Offizielle Ausschreibung mit Bieterfrist. | Link: https://ausschreibungsradar.com/ausschreibung/92cf26b2-0d5d-42e4-80a5-d67e9340275f/
URL:https://ausschreibungsradar.com/ausschreibung/92cf26b2-0d5d-42e4-80a5-d67e9340275f/
END:VEVENT
BEGIN:VEVENT
UID:5694b0d518b9bab8@ausschreibungsradar.com
DTSTAMP:20260424T181119Z
DTSTART;VALUE=DATE:20250520
DTEND;VALUE=DATE:20250520
SUMMARY:Angebotsfrist — Tamm - Erschließung Fernwärme mit Erneuerung Wasserleitung A
DESCRIPTION:Phase: Ausschreibung | Beschreibung: Angebote werden eingeholt | Link: https://ausschreibungsradar.com/ausschreibung/7a5923eb-c89e-435e-9b2a-ca4fe7d83c8c/
URL:https://ausschreibungsradar.com/ausschreibung/7a5923eb-c89e-435e-9b2a-ca4fe7d83c8c/
END:VEVENT
END:VCALENDAR
