BEGIN:VCALENDAR
VERSION:2.0
PRODID:-//AusschreibungsRadar//Timeline//DE
CALSCALE:GREGORIAN
METHOD:PUBLISH
X-WR-CALNAME:Projekt Offenes Verfahren (EU-weit) zur Vergabe von Gebäudereinigung
X-WR-TIMEZONE:Europe/Berlin
BEGIN:VEVENT
UID:1a6fa49da2a3035a@ausschreibungsradar.com
DTSTAMP:20260425T155225Z
DTSTART;VALUE=DATE:20250716
DTEND;VALUE=DATE:20250716
SUMMARY:Zuschlag — Offenes Verfahren (EU-weit) zur Vergabe von Gebäudereinigung
DESCRIPTION:Phase: Zuschlag | Beschreibung: Vergabeergebnis — Auftrag wurde erteilt oder Verfahren beendet. | Link: https://ausschreibungsradar.com/ausschreibung/3200edce-4c57-4446-b7e1-0881e9d6b872/
URL:https://ausschreibungsradar.com/ausschreibung/3200edce-4c57-4446-b7e1-0881e9d6b872/
END:VEVENT
BEGIN:VEVENT
UID:2bb9d7c88aed2e81@ausschreibungsradar.com
DTSTAMP:20260425T155225Z
DTSTART;VALUE=DATE:20250728
DTEND;VALUE=DATE:20250728
SUMMARY:Ausschreibung — Offenes Verfahren (EU-weit) zur Vergabe von Gebäudereinigung
DESCRIPTION:Phase: Ausschreibung | Beschreibung: Offizielle Ausschreibung mit Bieterfrist. | Link: https://ausschreibungsradar.com/ausschreibung/eec79dc3-0681-4f47-b27f-2d6c98b39bc9/
URL:https://ausschreibungsradar.com/ausschreibung/eec79dc3-0681-4f47-b27f-2d6c98b39bc9/
END:VEVENT
BEGIN:VEVENT
UID:a2d20faae852c672@ausschreibungsradar.com
DTSTAMP:20260425T155225Z
DTSTART;VALUE=DATE:20250730
DTEND;VALUE=DATE:20250730
SUMMARY:Ausschreibung — Offenes Verfahren (EU-weit) zur Vergabe von Gebäudereinigung
DESCRIPTION:Phase: Ausschreibung | Beschreibung: Angebote werden eingeholt | Link: https://ausschreibungsradar.com/ausschreibung/7a5e375a-67bd-4964-bfcd-b391d1521ea0/
URL:https://ausschreibungsradar.com/ausschreibung/7a5e375a-67bd-4964-bfcd-b391d1521ea0/
END:VEVENT
BEGIN:VEVENT
UID:8e354c229f4ea91b@ausschreibungsradar.com
DTSTAMP:20260425T155225Z
DTSTART;VALUE=DATE:20260218
DTEND;VALUE=DATE:20260218
SUMMARY:Vergabeergebnis — Offenes Verfahren (EU-weit) zur Vergabe von Gebäudereinigung
DESCRIPTION:Phase: Vergabeergebnis | Beschreibung: Auftrag wurde zugeschlagen | Link: https://ausschreibungsradar.com/ausschreibung/e3703ec8-a799-456e-a436-01674a7d538c/
URL:https://ausschreibungsradar.com/ausschreibung/e3703ec8-a799-456e-a436-01674a7d538c/
END:VEVENT
END:VCALENDAR
