BEGIN:VCALENDAR
VERSION:2.0
PRODID:-//AusschreibungsRadar//Timeline//DE
CALSCALE:GREGORIAN
METHOD:PUBLISH
X-WR-CALNAME:Projekt Generationenbrücke in Reit im Winkl - Nutzungsänderung zu ei
X-WR-TIMEZONE:Europe/Berlin
BEGIN:VEVENT
UID:f53d17d429c8d8f3@ausschreibungsradar.com
DTSTAMP:20260424T151825Z
DTSTART;VALUE=DATE:20250915
DTEND;VALUE=DATE:20250915
SUMMARY:Angebotsfrist — Generationenbrücke in Reit im Winkl - Nutzungsänderung zu ei
DESCRIPTION:Phase: Ausschreibung | Beschreibung: Angebote werden eingeholt | Link: https://ausschreibungsradar.com/ausschreibung/7b328a0a-1a0b-4b26-b5ee-4f42804e434a/ | Geschätzter Wert: 1100000 €
URL:https://ausschreibungsradar.com/ausschreibung/7b328a0a-1a0b-4b26-b5ee-4f42804e434a/
END:VEVENT
BEGIN:VEVENT
UID:f161f33b6fe8903e@ausschreibungsradar.com
DTSTAMP:20260424T151825Z
DTSTART;VALUE=DATE:20250816
DTEND;VALUE=DATE:20250816
SUMMARY:Ausschreibung — Generationenbrücke in Reit im Winkl - Nutzungsänderung zu ei
DESCRIPTION:Phase: Ausschreibung | Beschreibung: Offizielle Ausschreibung mit Bieterfrist. | Link: https://ausschreibungsradar.com/ausschreibung/042a5cfc-53f1-463a-9b5a-ea2d98783d44/
URL:https://ausschreibungsradar.com/ausschreibung/042a5cfc-53f1-463a-9b5a-ea2d98783d44/
END:VEVENT
BEGIN:VEVENT
UID:a1581cc3755a0549@ausschreibungsradar.com
DTSTAMP:20260424T151825Z
DTSTART;VALUE=DATE:20250816
DTEND;VALUE=DATE:20250816
SUMMARY:Ausschreibung — Generationenbrücke in Reit im Winkl - Nutzungsänderung zu ei
DESCRIPTION:Phase: Ausschreibung | Beschreibung: Offizielle Ausschreibung mit Bieterfrist. | Link: https://ausschreibungsradar.com/ausschreibung/d355d47c-688a-4255-9114-6bbea0de9ad4/
URL:https://ausschreibungsradar.com/ausschreibung/d355d47c-688a-4255-9114-6bbea0de9ad4/
END:VEVENT
BEGIN:VEVENT
UID:0c66d105895e6c1c@ausschreibungsradar.com
DTSTAMP:20260424T151825Z
DTSTART;VALUE=DATE:20250831
DTEND;VALUE=DATE:20250831
SUMMARY:Ausschreibung — Generationenbrücke in Reit im Winkl - Nutzungsänderung zu ei
DESCRIPTION:Phase: Ausschreibung | Beschreibung: Offizielle Ausschreibung mit Bieterfrist. | Link: https://ausschreibungsradar.com/ausschreibung/51ed4f09-63db-46d8-8537-b73f58f9b1ac/
URL:https://ausschreibungsradar.com/ausschreibung/51ed4f09-63db-46d8-8537-b73f58f9b1ac/
END:VEVENT
BEGIN:VEVENT
UID:4539e7d6fb60ed07@ausschreibungsradar.com
DTSTAMP:20260424T151825Z
DTSTART;VALUE=DATE:20250903
DTEND;VALUE=DATE:20250903
SUMMARY:Ausschreibung — Generationenbrücke in Reit im Winkl - Nutzungsänderung zu ei
DESCRIPTION:Phase: Ausschreibung | Beschreibung: Offizielle Ausschreibung mit Bieterfrist. | Link: https://ausschreibungsradar.com/ausschreibung/ac7fc5e3-5f56-497d-aad4-d0947184bb22/
URL:https://ausschreibungsradar.com/ausschreibung/ac7fc5e3-5f56-497d-aad4-d0947184bb22/
END:VEVENT
BEGIN:VEVENT
UID:238b90f7e58fa6d4@ausschreibungsradar.com
DTSTAMP:20260424T151825Z
DTSTART;VALUE=DATE:20251220
DTEND;VALUE=DATE:20251220
SUMMARY:Vergabeergebnis — Generationenbrücke in Reit im Winkl - Nutzungsänderung zu ei
DESCRIPTION:Phase: Vergabeergebnis | Beschreibung: Auftrag wurde zugeschlagen | Link: https://ausschreibungsradar.com/ausschreibung/9d5fb284-d25c-4e4e-a6fd-3dbc358a399f/ | Auftragnehmer: Mayer Hoch- und Tiefbau G
URL:https://ausschreibungsradar.com/ausschreibung/9d5fb284-d25c-4e4e-a6fd-3dbc358a399f/
END:VEVENT
END:VCALENDAR
