BEGIN:VCALENDAR
VERSION:2.0
PRODID:-//AusschreibungsRadar//Timeline//DE
CALSCALE:GREGORIAN
METHOD:PUBLISH
X-WR-CALNAME:Projekt Rahmenvereinbarung zur Unterstützung im Bereich IT-Architekt
X-WR-TIMEZONE:Europe/Berlin
BEGIN:VEVENT
UID:4dcf5f0d3ca3dc8d@ausschreibungsradar.com
DTSTAMP:20260425T184908Z
DTSTART;VALUE=DATE:20251023
DTEND;VALUE=DATE:20251023
SUMMARY:Angebotsfrist — Rahmenvereinbarung zur Unterstützung im Bereich IT-Architekt
DESCRIPTION:Phase: Ausschreibung | Beschreibung: Angebote werden eingeholt | Link: https://ausschreibungsradar.com/ausschreibung/7c90e384-7349-4813-b4fd-b14276d9cb39/
URL:https://ausschreibungsradar.com/ausschreibung/7c90e384-7349-4813-b4fd-b14276d9cb39/
END:VEVENT
BEGIN:VEVENT
UID:e42982b3c5353cf3@ausschreibungsradar.com
DTSTAMP:20260425T184908Z
DTSTART;VALUE=DATE:20260219
DTEND;VALUE=DATE:20260219
SUMMARY:Vergabeergebnis — Rahmenvereinbarung zur Unterstützung im Bereich IT-Architekt
DESCRIPTION:Phase: Vergabeergebnis | Beschreibung: Auftrag wurde zugeschlagen | Link: https://ausschreibungsradar.com/ausschreibung/5a82bb2f-749e-4f16-853b-928a47d9fc63/ | Auftragnehmer: ]init[ AG für digitale Ko
URL:https://ausschreibungsradar.com/ausschreibung/5a82bb2f-749e-4f16-853b-928a47d9fc63/
END:VEVENT
END:VCALENDAR
