BEGIN:VCALENDAR
VERSION:2.0
PRODID:-//AusschreibungsRadar//Timeline//DE
CALSCALE:GREGORIAN
METHOD:PUBLISH
X-WR-CALNAME:Projekt Kreisseniorenheim Greifenberg BS-Sanierung und Ersatzneubau
X-WR-TIMEZONE:Europe/Berlin
BEGIN:VEVENT
UID:7061adf6b50bdc6d@ausschreibungsradar.com
DTSTAMP:20260424T212552Z
DTSTART;VALUE=DATE:20240201
DTEND;VALUE=DATE:20240201
SUMMARY:Ausschreibung — Kreisseniorenheim Greifenberg BS-Sanierung und Ersatzneubau
DESCRIPTION:Phase: Ausschreibung | Beschreibung: Offizielle Ausschreibung mit Bieterfrist. | Link: https://ausschreibungsradar.com/ausschreibung/f2b6d173-5cec-47e0-9443-b39b48d383d1/
URL:https://ausschreibungsradar.com/ausschreibung/f2b6d173-5cec-47e0-9443-b39b48d383d1/
END:VEVENT
BEGIN:VEVENT
UID:e16ed93a9662eb23@ausschreibungsradar.com
DTSTAMP:20260424T212552Z
DTSTART;VALUE=DATE:20240229
DTEND;VALUE=DATE:20240229
SUMMARY:Ausschreibung — Kreisseniorenheim Greifenberg BS-Sanierung und Ersatzneubau
DESCRIPTION:Phase: Ausschreibung | Beschreibung: Angebote werden eingeholt | Link: https://ausschreibungsradar.com/ausschreibung/7cede79d-8365-4eef-af59-f096114a148f/
URL:https://ausschreibungsradar.com/ausschreibung/7cede79d-8365-4eef-af59-f096114a148f/
END:VEVENT
BEGIN:VEVENT
UID:b1ea8964848becce@ausschreibungsradar.com
DTSTAMP:20260424T212552Z
DTSTART;VALUE=DATE:20240229
DTEND;VALUE=DATE:20240229
SUMMARY:Ausschreibung — Kreisseniorenheim Greifenberg BS-Sanierung und Ersatzneubau
DESCRIPTION:Phase: Ausschreibung | Beschreibung: Offizielle Ausschreibung mit Bieterfrist. | Link: https://ausschreibungsradar.com/ausschreibung/908271e0-e011-4cb9-90a5-3560f7c43992/
URL:https://ausschreibungsradar.com/ausschreibung/908271e0-e011-4cb9-90a5-3560f7c43992/
END:VEVENT
END:VCALENDAR
