BEGIN:VCALENDAR
VERSION:2.0
PRODID:-//AusschreibungsRadar//Timeline//DE
CALSCALE:GREGORIAN
METHOD:PUBLISH
X-WR-CALNAME:Projekt Rekultivierung Kuhlache Wittenberg (Bauleistung)
X-WR-TIMEZONE:Europe/Berlin
BEGIN:VEVENT
UID:bf66b4106fb44f5e@ausschreibungsradar.com
DTSTAMP:20260425T194412Z
DTSTART;VALUE=DATE:20251016
DTEND;VALUE=DATE:20251016
SUMMARY:Ausschreibung — Rekultivierung Kuhlache Wittenberg (Bauleistung)
DESCRIPTION:Phase: Ausschreibung | Beschreibung: Angebote werden eingeholt | Link: https://ausschreibungsradar.com/ausschreibung/2beaccfb-5740-4ca7-bbec-dce06a0efab6/
URL:https://ausschreibungsradar.com/ausschreibung/2beaccfb-5740-4ca7-bbec-dce06a0efab6/
END:VEVENT
BEGIN:VEVENT
UID:d20a9f442396373a@ausschreibungsradar.com
DTSTAMP:20260425T194412Z
DTSTART;VALUE=DATE:20260323
DTEND;VALUE=DATE:20260323
SUMMARY:Vergabeergebnis — Rekultivierung Kuhlache Wittenberg (Bauleistung)
DESCRIPTION:Phase: Vergabeergebnis | Beschreibung: Auftrag wurde zugeschlagen | Link: https://ausschreibungsradar.com/ausschreibung/7d5157eb-6af2-40a0-a75c-59f13270ade3/
URL:https://ausschreibungsradar.com/ausschreibung/7d5157eb-6af2-40a0-a75c-59f13270ade3/
END:VEVENT
END:VCALENDAR
