BEGIN:VCALENDAR
VERSION:2.0
PRODID:-//AusschreibungsRadar//Timeline//DE
CALSCALE:GREGORIAN
METHOD:PUBLISH
X-WR-CALNAME:Projekt BLB NRW / NL Dortmund / IMO01 Rahmenvertrag TGA HKLS 1 / 010
X-WR-TIMEZONE:Europe/Berlin
BEGIN:VEVENT
UID:759689420da53a4d@ausschreibungsradar.com
DTSTAMP:20260425T155228Z
DTSTART;VALUE=DATE:20260122
DTEND;VALUE=DATE:20260122
SUMMARY:Ausschreibung — BLB NRW / NL Dortmund / IMO01 Rahmenvertrag TGA HKLS 1 / 010
DESCRIPTION:Phase: Ausschreibung | Beschreibung: Angebote werden eingeholt | Link: https://ausschreibungsradar.com/ausschreibung/ee87132a-a312-4034-91df-c33be3f754ab/ | Geschätzter Wert: 488890 €
URL:https://ausschreibungsradar.com/ausschreibung/ee87132a-a312-4034-91df-c33be3f754ab/
END:VEVENT
BEGIN:VEVENT
UID:d116a9c58e25bf47@ausschreibungsradar.com
DTSTAMP:20260425T155228Z
DTSTART;VALUE=DATE:20260305
DTEND;VALUE=DATE:20260305
SUMMARY:Ausschreibung — BLB NRW / NL Dortmund / IMO01 Rahmenvertrag TGA HKLS 1 / 010
DESCRIPTION:Phase: Ausschreibung | Beschreibung: Offizielle Ausschreibung mit Bieterfrist. | Link: https://ausschreibungsradar.com/ausschreibung/a03e6293-0b38-48e8-8b56-9e6de63fa590/
URL:https://ausschreibungsradar.com/ausschreibung/a03e6293-0b38-48e8-8b56-9e6de63fa590/
END:VEVENT
BEGIN:VEVENT
UID:442709984c04d170@ausschreibungsradar.com
DTSTAMP:20260425T155228Z
DTSTART;VALUE=DATE:20260402
DTEND;VALUE=DATE:20260402
SUMMARY:Vergabeergebnis — BLB NRW / NL Dortmund / IMO01 Rahmenvertrag TGA HKLS 1 / 010
DESCRIPTION:Phase: Vergabeergebnis | Beschreibung: Auftrag wurde zugeschlagen | Link: https://ausschreibungsradar.com/ausschreibung/7dbb173d-7213-4fea-a94b-c330657acfbc/ | Geschätzter Wert: 488890 €
URL:https://ausschreibungsradar.com/ausschreibung/7dbb173d-7213-4fea-a94b-c330657acfbc/
END:VEVENT
END:VCALENDAR
