BEGIN:VCALENDAR
VERSION:2.0
PRODID:-//AusschreibungsRadar//Timeline//DE
CALSCALE:GREGORIAN
METHOD:PUBLISH
X-WR-CALNAME:Projekt Rahmenvereinbarung: Veröffentlichungen von Stellenanzeigen
X-WR-TIMEZONE:Europe/Berlin
BEGIN:VEVENT
UID:b0f3e6f11df6bc0e@ausschreibungsradar.com
DTSTAMP:20260425T173146Z
DTSTART;VALUE=DATE:20250516
DTEND;VALUE=DATE:20250516
SUMMARY:Angebotsfrist — Rahmenvereinbarung: Veröffentlichungen von Stellenanzeigen
DESCRIPTION:Phase: Ausschreibung | Beschreibung: Angebote werden eingeholt | Link: https://ausschreibungsradar.com/ausschreibung/7de37a2b-336a-4da4-b1f1-c08dd5a1a6db/
URL:https://ausschreibungsradar.com/ausschreibung/7de37a2b-336a-4da4-b1f1-c08dd5a1a6db/
END:VEVENT
BEGIN:VEVENT
UID:b3dd93d813514159@ausschreibungsradar.com
DTSTAMP:20260425T173146Z
DTSTART;VALUE=DATE:20250625
DTEND;VALUE=DATE:20250625
SUMMARY:Vergabeergebnis — Rahmenvereinbarung: Veröffentlichungen von Stellenanzeigen
DESCRIPTION:Phase: Vergabeergebnis | Beschreibung: Auftrag wurde zugeschlagen | Link: https://ausschreibungsradar.com/ausschreibung/ba130f20-4a14-45d9-83ac-856110756a8c/ | Auftragnehmer: AWS Personalmarketing Gmb
URL:https://ausschreibungsradar.com/ausschreibung/ba130f20-4a14-45d9-83ac-856110756a8c/
END:VEVENT
END:VCALENDAR
