BEGIN:VCALENDAR
VERSION:2.0
PRODID:-//AusschreibungsRadar//Timeline//DE
CALSCALE:GREGORIAN
METHOD:PUBLISH
X-WR-CALNAME:Projekt DESYUM Ausstellung Exponatebau
X-WR-TIMEZONE:Europe/Berlin
BEGIN:VEVENT
UID:97a517c72854f9be@ausschreibungsradar.com
DTSTAMP:20260424T213715Z
DTSTART;VALUE=DATE:20250513
DTEND;VALUE=DATE:20250513
SUMMARY:Angebotsfrist — DESYUM Ausstellung Exponatebau
DESCRIPTION:Phase: Ausschreibung | Beschreibung: Angebote werden eingeholt | Link: https://ausschreibungsradar.com/ausschreibung/7e08b02b-67e2-4868-9ce7-771e1157855a/
URL:https://ausschreibungsradar.com/ausschreibung/7e08b02b-67e2-4868-9ce7-771e1157855a/
END:VEVENT
BEGIN:VEVENT
UID:a0e0653b85259245@ausschreibungsradar.com
DTSTAMP:20260424T213715Z
DTSTART;VALUE=DATE:20250410
DTEND;VALUE=DATE:20250410
SUMMARY:Ausschreibung — DESYUM Ausstellung Exponatebau
DESCRIPTION:Phase: Ausschreibung | Beschreibung: Offizielle Ausschreibung mit Bieterfrist. | Link: https://ausschreibungsradar.com/ausschreibung/16caceee-5026-45e8-8848-0edd06cc6d49/
URL:https://ausschreibungsradar.com/ausschreibung/16caceee-5026-45e8-8848-0edd06cc6d49/
END:VEVENT
BEGIN:VEVENT
UID:aea5fe5fbc389a62@ausschreibungsradar.com
DTSTAMP:20260424T213715Z
DTSTART;VALUE=DATE:20250602
DTEND;VALUE=DATE:20250602
SUMMARY:Vergabeergebnis — DESYUM Ausstellung Exponatebau
DESCRIPTION:Phase: Vergabeergebnis | Beschreibung: Auftrag wurde zugeschlagen | Link: https://ausschreibungsradar.com/ausschreibung/2b2f8687-480b-42a8-851b-a77c2cc215c2/
URL:https://ausschreibungsradar.com/ausschreibung/2b2f8687-480b-42a8-851b-a77c2cc215c2/
END:VEVENT
END:VCALENDAR
