BEGIN:VCALENDAR
VERSION:2.0
PRODID:-//AusschreibungsRadar//Timeline//DE
CALSCALE:GREGORIAN
METHOD:PUBLISH
X-WR-CALNAME:Projekt Bürgerzentrum und Rathausumfeld Illertissen - Realisierungsw
X-WR-TIMEZONE:Europe/Berlin
BEGIN:VEVENT
UID:8d3c4b48a268538e@ausschreibungsradar.com
DTSTAMP:20260424T091232Z
DTSTART;VALUE=DATE:20231215
DTEND;VALUE=DATE:20231215
SUMMARY:Ausschreibung — Bürgerzentrum und Rathausumfeld Illertissen - Realisierungsw
DESCRIPTION:Phase: Ausschreibung | Beschreibung: Angebote werden eingeholt | Link: https://ausschreibungsradar.com/ausschreibung/b2ec5898-bddd-4725-981a-84e001e282ca/
URL:https://ausschreibungsradar.com/ausschreibung/b2ec5898-bddd-4725-981a-84e001e282ca/
END:VEVENT
BEGIN:VEVENT
UID:f565c88a151c58fa@ausschreibungsradar.com
DTSTAMP:20260424T091232Z
DTSTART;VALUE=DATE:20240925
DTEND;VALUE=DATE:20240925
SUMMARY:Vergabeergebnis — Bürgerzentrum und Rathausumfeld Illertissen - Realisierungsw
DESCRIPTION:Phase: Vergabeergebnis | Beschreibung: Auftrag wurde zugeschlagen | Link: https://ausschreibungsradar.com/ausschreibung/7e6393c5-4a12-44c0-9dfb-c7bbb1504f5b/ | Auftragnehmer: Arge STUDIO SOZIA Calavet
URL:https://ausschreibungsradar.com/ausschreibung/7e6393c5-4a12-44c0-9dfb-c7bbb1504f5b/
END:VEVENT
END:VCALENDAR
