BEGIN:VCALENDAR
VERSION:2.0
PRODID:-//AusschreibungsRadar//Timeline//DE
CALSCALE:GREGORIAN
METHOD:PUBLISH
X-WR-CALNAME:Projekt 24-01 GSA - Erweiterung und Sanierung der Grundschule Abensb
X-WR-TIMEZONE:Europe/Berlin
BEGIN:VEVENT
UID:df2a18662fd4f6d5@ausschreibungsradar.com
DTSTAMP:20260425T150555Z
DTSTART;VALUE=DATE:20250822
DTEND;VALUE=DATE:20250822
SUMMARY:Zuschlag — 24-01 GSA - Erweiterung und Sanierung der Grundschule Abensb
DESCRIPTION:Phase: Zuschlag | Beschreibung: Vergabeergebnis — Auftrag wurde erteilt oder Verfahren beendet. | Link: https://ausschreibungsradar.com/ausschreibung/73b13998-86fe-4c2e-9897-74dc6ef233b7/
URL:https://ausschreibungsradar.com/ausschreibung/73b13998-86fe-4c2e-9897-74dc6ef233b7/
END:VEVENT
BEGIN:VEVENT
UID:30fd61c7df21d177@ausschreibungsradar.com
DTSTAMP:20260425T150555Z
DTSTART;VALUE=DATE:20251014
DTEND;VALUE=DATE:20251014
SUMMARY:Angebotsfrist — 24-01 GSA - Erweiterung und Sanierung der Grundschule Abensb
DESCRIPTION:Phase: Ausschreibung | Beschreibung: Angebote werden eingeholt | Link: https://ausschreibungsradar.com/ausschreibung/7e6c723e-24bb-4548-9289-6bb09e42d275/
URL:https://ausschreibungsradar.com/ausschreibung/7e6c723e-24bb-4548-9289-6bb09e42d275/
END:VEVENT
BEGIN:VEVENT
UID:86830cf68bafebcb@ausschreibungsradar.com
DTSTAMP:20260425T150555Z
DTSTART;VALUE=DATE:20250909
DTEND;VALUE=DATE:20250909
SUMMARY:Ausschreibung — 24-01 GSA - Erweiterung und Sanierung der Grundschule Abensb
DESCRIPTION:Phase: Ausschreibung | Beschreibung: Offizielle Ausschreibung mit Bieterfrist. | Link: https://ausschreibungsradar.com/ausschreibung/40c52a76-c2fe-48a5-a557-cbde7802f26b/
URL:https://ausschreibungsradar.com/ausschreibung/40c52a76-c2fe-48a5-a557-cbde7802f26b/
END:VEVENT
BEGIN:VEVENT
UID:e3c3d999f5ab34d9@ausschreibungsradar.com
DTSTAMP:20260425T150555Z
DTSTART;VALUE=DATE:20260417
DTEND;VALUE=DATE:20260417
SUMMARY:Vergabeergebnis — 24-01 GSA - Erweiterung und Sanierung der Grundschule Abensb
DESCRIPTION:Phase: Vergabeergebnis | Beschreibung: Auftrag wurde zugeschlagen | Link: https://ausschreibungsradar.com/ausschreibung/3897c007-9080-422f-b4cd-f917d65052fe/
URL:https://ausschreibungsradar.com/ausschreibung/3897c007-9080-422f-b4cd-f917d65052fe/
END:VEVENT
END:VCALENDAR
