BEGIN:VCALENDAR
VERSION:2.0
PRODID:-//AusschreibungsRadar//Timeline//DE
CALSCALE:GREGORIAN
METHOD:PUBLISH
X-WR-CALNAME:Projekt Denkmalgerechte Sanierung der Remise
X-WR-TIMEZONE:Europe/Berlin
BEGIN:VEVENT
UID:11be4d09ab7464c9@ausschreibungsradar.com
DTSTAMP:20260425T140802Z
DTSTART;VALUE=DATE:20240430
DTEND;VALUE=DATE:20240430
SUMMARY:Angebotsfrist — Denkmalgerechte Sanierung der Remise
DESCRIPTION:Phase: Ausschreibung | Beschreibung: Angebote werden eingeholt | Link: https://ausschreibungsradar.com/ausschreibung/e06deab0-0f0c-497e-8458-02b52c251f9c/
URL:https://ausschreibungsradar.com/ausschreibung/e06deab0-0f0c-497e-8458-02b52c251f9c/
END:VEVENT
BEGIN:VEVENT
UID:98df2a25686d9b05@ausschreibungsradar.com
DTSTAMP:20260425T140802Z
DTSTART;VALUE=DATE:20240512
DTEND;VALUE=DATE:20240512
SUMMARY:Ausschreibung — Denkmalgerechte Sanierung der Remise
DESCRIPTION:Phase: Ausschreibung | Beschreibung: Offizielle Ausschreibung mit Bieterfrist. | Link: https://ausschreibungsradar.com/ausschreibung/cd66dc93-07ae-4213-b7b6-14a46e6711ea/
URL:https://ausschreibungsradar.com/ausschreibung/cd66dc93-07ae-4213-b7b6-14a46e6711ea/
END:VEVENT
BEGIN:VEVENT
UID:7b4ec7fbc6a80691@ausschreibungsradar.com
DTSTAMP:20260425T140802Z
DTSTART;VALUE=DATE:20240523
DTEND;VALUE=DATE:20240523
SUMMARY:Zuschlag — Denkmalgerechte Sanierung der Remise
DESCRIPTION:Phase: Zuschlag | Beschreibung: Vergabeergebnis — Auftrag wurde erteilt oder Verfahren beendet. | Link: https://ausschreibungsradar.com/ausschreibung/c3b4e0de-d161-4ef0-8def-44f6af937fda/
URL:https://ausschreibungsradar.com/ausschreibung/c3b4e0de-d161-4ef0-8def-44f6af937fda/
END:VEVENT
BEGIN:VEVENT
UID:876785cfea5837e8@ausschreibungsradar.com
DTSTAMP:20260425T140802Z
DTSTART;VALUE=DATE:20240524
DTEND;VALUE=DATE:20240524
SUMMARY:Vergabeergebnis — Denkmalgerechte Sanierung der Remise
DESCRIPTION:Phase: Vergabeergebnis | Beschreibung: Sonstige Gründe | Link: https://ausschreibungsradar.com/ausschreibung/7ec34846-ded5-477f-a40e-bbff327ca925/
URL:https://ausschreibungsradar.com/ausschreibung/7ec34846-ded5-477f-a40e-bbff327ca925/
END:VEVENT
END:VCALENDAR
