BEGIN:VCALENDAR
VERSION:2.0
PRODID:-//AusschreibungsRadar//Timeline//DE
CALSCALE:GREGORIAN
METHOD:PUBLISH
X-WR-CALNAME:Projekt Lieferung von Herz-Lungen-Maschinen
X-WR-TIMEZONE:Europe/Berlin
BEGIN:VEVENT
UID:52aefb0eb936b49a@ausschreibungsradar.com
DTSTAMP:20260425T233441Z
DTSTART;VALUE=DATE:20240909
DTEND;VALUE=DATE:20240909
SUMMARY:Angebotsfrist — Lieferung von Herz-Lungen-Maschinen
DESCRIPTION:Phase: Ausschreibung | Beschreibung: Angebote werden eingeholt | Link: https://ausschreibungsradar.com/ausschreibung/7fb140be-e27f-44f8-a4e7-579ed3e76d91/
URL:https://ausschreibungsradar.com/ausschreibung/7fb140be-e27f-44f8-a4e7-579ed3e76d91/
END:VEVENT
BEGIN:VEVENT
UID:38f4921890d5ec3e@ausschreibungsradar.com
DTSTAMP:20260425T233441Z
DTSTART;VALUE=DATE:20240710
DTEND;VALUE=DATE:20240710
SUMMARY:Ausschreibung — Lieferung von Herz-Lungen-Maschinen
DESCRIPTION:Phase: Ausschreibung | Beschreibung: Offizielle Ausschreibung mit Bieterfrist. | Link: https://ausschreibungsradar.com/ausschreibung/e32f8c6b-dd20-4032-b76c-b6b814512206/
URL:https://ausschreibungsradar.com/ausschreibung/e32f8c6b-dd20-4032-b76c-b6b814512206/
END:VEVENT
BEGIN:VEVENT
UID:9e0660020890f406@ausschreibungsradar.com
DTSTAMP:20260425T233441Z
DTSTART;VALUE=DATE:20240801
DTEND;VALUE=DATE:20240801
SUMMARY:Ausschreibung — Lieferung von Herz-Lungen-Maschinen
DESCRIPTION:Phase: Ausschreibung | Beschreibung: Offizielle Ausschreibung mit Bieterfrist. | Link: https://ausschreibungsradar.com/ausschreibung/ted-464552-2024/
URL:https://ausschreibungsradar.com/ausschreibung/ted-464552-2024/
END:VEVENT
BEGIN:VEVENT
UID:a5bcbc6e1a2ba8ae@ausschreibungsradar.com
DTSTAMP:20260425T233441Z
DTSTART;VALUE=DATE:20241108
DTEND;VALUE=DATE:20241108
SUMMARY:Vergabeergebnis — Lieferung von Herz-Lungen-Maschinen
DESCRIPTION:Phase: Vergabeergebnis | Beschreibung: Auftrag wurde zugeschlagen | Link: https://ausschreibungsradar.com/ausschreibung/15f8c23a-4c16-4b1b-bbbf-6eaba70274a8/
URL:https://ausschreibungsradar.com/ausschreibung/15f8c23a-4c16-4b1b-bbbf-6eaba70274a8/
END:VEVENT
END:VCALENDAR
