BEGIN:VCALENDAR
VERSION:2.0
PRODID:-//AusschreibungsRadar//Timeline//DE
CALSCALE:GREGORIAN
METHOD:PUBLISH
X-WR-CALNAME:Projekt FUKI_OBJ_bewerb
X-WR-TIMEZONE:Europe/Berlin
BEGIN:VEVENT
UID:af426ab253df232a@ausschreibungsradar.com
DTSTAMP:20260425T225358Z
DTSTART;VALUE=DATE:20240506
DTEND;VALUE=DATE:20240506
SUMMARY:Ausschreibung — FUKI_OBJ_bewerb
DESCRIPTION:Phase: Ausschreibung | Beschreibung: Angebote werden eingeholt | Link: https://ausschreibungsradar.com/ausschreibung/7fe052b9-445e-48d4-81f5-e9379f2a604d/ | Geschätzter Wert: 530000 €
URL:https://ausschreibungsradar.com/ausschreibung/7fe052b9-445e-48d4-81f5-e9379f2a604d/
END:VEVENT
BEGIN:VEVENT
UID:45d5367c4f982752@ausschreibungsradar.com
DTSTAMP:20260425T225358Z
DTSTART;VALUE=DATE:20240507
DTEND;VALUE=DATE:20240507
SUMMARY:Ausschreibung — FUKI_OBJ_bewerb
DESCRIPTION:Phase: Ausschreibung | Beschreibung: Offizielle Ausschreibung mit Bieterfrist. | Link: https://ausschreibungsradar.com/ausschreibung/ted-270828-2024/
URL:https://ausschreibungsradar.com/ausschreibung/ted-270828-2024/
END:VEVENT
BEGIN:VEVENT
UID:c5d612ba3a19aae7@ausschreibungsradar.com
DTSTAMP:20260425T225358Z
DTSTART;VALUE=DATE:20240809
DTEND;VALUE=DATE:20240809
SUMMARY:Vergabeergebnis — FUKI_OBJ_bewerb
DESCRIPTION:Phase: Vergabeergebnis | Beschreibung: Auftrag wurde zugeschlagen | Link: https://ausschreibungsradar.com/ausschreibung/5f762154-8b23-4026-aa79-8ef6d0ac415e/ | Geschätzter Wert: 530000 €
URL:https://ausschreibungsradar.com/ausschreibung/5f762154-8b23-4026-aa79-8ef6d0ac415e/
END:VEVENT
END:VCALENDAR
