BEGIN:VCALENDAR
VERSION:2.0
PRODID:-//AusschreibungsRadar//Timeline//DE
CALSCALE:GREGORIAN
METHOD:PUBLISH
X-WR-CALNAME:Projekt Für die Liegenschaften des Landesamts für Umweltschutz Sachs
X-WR-TIMEZONE:Europe/Berlin
BEGIN:VEVENT
UID:a697986460093e0d@ausschreibungsradar.com
DTSTAMP:20260425T135026Z
DTSTART;VALUE=DATE:20250407
DTEND;VALUE=DATE:20250407
SUMMARY:Angebotsfrist — Für die Liegenschaften des Landesamts für Umweltschutz Sachs
DESCRIPTION:Phase: Ausschreibung | Beschreibung: Angebote werden eingeholt | Link: https://ausschreibungsradar.com/ausschreibung/7ffb46c4-1367-40a9-a7f6-34ff4b53537c/
URL:https://ausschreibungsradar.com/ausschreibung/7ffb46c4-1367-40a9-a7f6-34ff4b53537c/
END:VEVENT
BEGIN:VEVENT
UID:53c6fa3383bdc0bc@ausschreibungsradar.com
DTSTAMP:20260425T135026Z
DTSTART;VALUE=DATE:20250217
DTEND;VALUE=DATE:20250217
SUMMARY:Ausschreibung — Für die Liegenschaften des Landesamts für Umweltschutz Sachs
DESCRIPTION:Phase: Ausschreibung | Beschreibung: Offizielle Ausschreibung mit Bieterfrist. | Link: https://ausschreibungsradar.com/ausschreibung/4cb5da06-cc2b-4243-a8bb-4712de4ba56a/
URL:https://ausschreibungsradar.com/ausschreibung/4cb5da06-cc2b-4243-a8bb-4712de4ba56a/
END:VEVENT
BEGIN:VEVENT
UID:a2e762c67597f62b@ausschreibungsradar.com
DTSTAMP:20260425T135026Z
DTSTART;VALUE=DATE:20250217
DTEND;VALUE=DATE:20250217
SUMMARY:Ausschreibung — Für die Liegenschaften des Landesamts für Umweltschutz Sachs
DESCRIPTION:Phase: Ausschreibung | Beschreibung: Offizielle Ausschreibung mit Bieterfrist. | Link: https://ausschreibungsradar.com/ausschreibung/414c2ba8-3019-478f-9eee-5a66f31ba939/
URL:https://ausschreibungsradar.com/ausschreibung/414c2ba8-3019-478f-9eee-5a66f31ba939/
END:VEVENT
END:VCALENDAR
